Workbook

Sheet 2026
B2: TRANSPARENCIA CLUB PROVIDENCIA 2026
B4: Mes | C4: 46023 | D4: 46054 | E4: 46082 | F4: 46113 | G4: 46143 | H4: 46174 | I4: 46204 | J4: 46235 | K4: 46266 | L4: 46296 | M4: 46327 | N4: 46357
B5: SUELDO BASE
B6: BONOS
B7: HORAS EXTRAS
B8: TOTAL BRUTO | C8: =Ene!G66 -> 12492737 | D8: =Feb!G67 -> 12647089 | E8: =Mar!G62 -> 11890016 | F8: 11241447 | G8: 12062100 | H8: 9666552 | I8: 6861057 | J8: 11479030
B9: TOTAL LIQUIDO | C9: =Ene!I66 -> 10587593 | D9: =Feb!I67 -> 10723747 | E9: =Mar!I62 -> 10077549 | F9: 9527125 | G9: 10222629 | H9: 1461188 | I9: 1046311 | J9: 1750551
B10: CANTIDAD TRABAJADORES | C10: 58 | D10: 59 | E10: 55 | F10: 48 | G10: 63 | H10: 48 | I10: 33 | J10: 44

Sheet Ene
A1: Contribuyente: CLUB PROVIDENCIA
A2: RUT : 70847200-K
A4: Informe correpondiente al mes 01 del año 2026
A5: Boleta | G5: Honorarios
A6: N° | B6: Fecha | C6: Estado | D6: Fecha Anulación | E6: Nombre o Razón Social | F6: Soc. Prof. | G6: Brutos | H6: Retenido | I6: Pagado
A7: 8 | B7: 46023 | C7: VIGENTE | E7: PERSONA 1 | F7: NO | G7: 240000 | H7: 36600 | I7: 203400
A8: 11 | B8: 46023 | C8: VIGENTE | E8: PERSONA 2 | F8: NO | G8: 200000 | H8: 30500 | I8: 169500
A9: 20 | B9: 46023 | C9: VIGENTE | E9: PERSONA 3 | F9: NO | G9: 80000 | H9: 12200 | I9: 67800
A10: 18 | B10: 46023 | C10: VIGENTE | E10: PERSONA 4 | F10: NO | G10: 80000 | H10: 12200 | I10: 67800
A11: 13 | B11: 46023 | C11: VIGENTE | E11: PERSONA 5 | F11: NO | G11: 40000 | H11: 6100 | I11: 33900
A12: 5 | B12: 46023 | C12: VIGENTE | E12: PERSONA 6 | F12: NO | G12: 240000 | H12: 36600 | I12: 203400
A13: 2 | B13: 46023 | C13: VIGENTE | E13: PERSONA 7 | F13: NO | G13: 200000 | H13: 30500 | I13: 169500
A14: 4 | B14: 46023 | C14: VIGENTE | E14: PERSONA 8 | F14: NO | G14: 80000 | H14: 12200 | I14: 67800
A15: 21 | B15: 46023 | C15: VIGENTE | E15: PERSONA 9 | F15: NO | G15: 120000 | H15: 18300 | I15: 101700
A16: 3 | B16: 46023 | C16: VIGENTE | E16: PERSONA 10 | F16: NO | G16: 40000 | H16: 6100 | I16: 33900
A17: 17 | B17: 46023 | C17: VIGENTE | E17: PERSONA 11 | F17: NO | G17: 160000 | H17: 24400 | I17: 135600
A18: 2 | B18: 46023 | C18: VIGENTE | E18: PERSONA 12 | F18: NO | G18: 40000 | H18: 6100 | I18: 33900
... A33: 1 | B33: 46028 | C33: VIGENTE | E33: PERSONA 27 | F33: NO | G33: 25000 | H33: 3813 | I33: 21187
A34: 61 | B34: 46028 | C34: ANULADA | D34: 46028 | E34: PERSONA 28 | F34: NO | G34: 82596 | H34: 12596 | I34: 70000
A35: 62 | B35: 46028 | C35: VIGENTE | E35: PERSONA 29 | F35: NO | G35: 82596 | H35: 12596 | I35: 70000
A36: 1 | B36: 46029 | C36: VIGENTE | E36: PERSONA 30 | F36: NO | G36: 200000 | H36: 30500 | I36: 169500
A37: 1 | B37: 46029 | C37: VIGENTE | E37: PERSONA 31 | F37: NO | G37: 200000 | H37: 30500 | I37: 169500
A38: 1 | B38: 46029 | C38: VIGENTE | E38: PERSONA 32 | F38: NO | G38: 200000 | H38: 30500 | I38: 169500
A39: 1 | B39: 46029 | C39: VIGENTE | E39: PERSONA 33 | F39: NO | G39: 200000 | H39: 30500 | I39: 169500
A40: 2 | B40: 46030 | C40: VIGENTE | E40: PERSONA 34 | F40: NO | G40: 40000 | H40: 6100 | I40: 33900
A41: 473 | B41: 46031 | C41: VIGENTE | E41: PERSONA 35 | F41: NO | G41: 1007847 | H41: 153697 | I41: 854150
A42: 474 | B42: 46031 | C42: VIGENTE | E42: PERSONA 36 | F42: NO | G42: 1406977 | H42: 214564 | I42: 1192413
A43: 10 | B43: 46031 | C43: VIGENTE | E43: PERSONA 37 | F43: NO | G43: 36666 | H43: 5592 | I43: 31074
A44: 224 | B44: 46034 | C44: VIGENTE | E44: PERSONA 38 | F44: NO | G44: 723540 | H44: 110340 | I44: 613200
A45: 9 | B45: 46038 | C45: VIGENTE | E45: PERSONA 39 | F45: NO | G45: 160000 | H45: 24400 | I45: 135600
A46: 6 | B46: 46038 | C46: VIGENTE | E46: PERSONA 40 | F46: NO | G46: 120000 | H46: 18300 | I46: 101700
... A65: 1704 | B65: 46043 | C65: VIGENTE | E65: PERSONA 59 | F65: NO | G65: 40000 | H65: 6100 | I65: 33900
A66: Totales* : | G66: =SUM(G7:G65)-G34 -> 12492737 | H66: =SUM(H7:H65)-H34 -> 1905144 | I66: =SUM(I7:I65)-I34 -> 10587593
A67: (*) Los valores totales no consideran los montos de las boletas anuladas.

Sheet Feb
A1: Contribuyente: CLUB PROVIDENCIA
A2: RUT : 70847200-K
A4: Informe correpondiente al mes 02 del año 2026
A5: Boleta | G5: Honorarios
A6: N° | B6: Fecha | C6: Estado | D6: Fecha Anulación | E6: Nombre o Razón Social | F6: Soc. Prof. | G6: Brutos | H6: Retenido | I6: Pagado
A7: 63 | B7: 46055 | C7: VIGENTE | E7: PERSONA 1 | F7: NO | G7: 117996 | H7: 17994 | I7: 100002
A8: 8 | B8: 46055 | C8: NULA | D8: 46057 | E8: PERSONA 2 | F8: NO | G8: 440000 | H8: 67100 | I8: 372900
A9: 9 | B9: 46055 | C9: VIGENTE | E9: PERSONA 3 | F9: NO | G9: 440000 | H9: 67100 | I9: 372900
A10: 42 | B10: 46055 | C10: VIGENTE | E10: PERSONA 4 | F10: NO | G10: 88496 | H10: 13496 | I10: 75000
A11: 228 | B11: 46056 | C11: VIGENTE | E11: PERSONA 5 | F11: NO | G11: 1070442 | H11: 163242 | I11: 907200
A12: 10 | B12: 46056 | C12: VIGENTE | E12: PERSONA 6 | F12: NO | G12: 160000 | H12: 24400 | I12: 135600
A13: 26 | B13: 46056 | C13: VIGENTE | E13: PERSONA 7 | F13: NO | G13: 80000 | H13: 12200 | I13: 67800
A14: 11 | B14: 46056 | C14: VIGENTE | E14: PERSONA 8 | F14: NO | G14: 40000 | H14: 6100 | I14: 33900
A15: 21 | B15: 46056 | C15: VIGENTE | E15: PERSONA 9 | F15: NO | G15: 80000 | H15: 12200 | I15: 67800
A16: 7 | B16: 46056 | C16: VIGENTE | E16: PERSONA 10 | F16: NO | G16: 200000 | H16: 30500 | I16: 169500
A17: 4 | B17: 46056 | C17: VIGENTE | E17: PERSONA 11 | F17: NO | G17: 120000 | H17: 18300 | I17: 101700
A18: 23 | B18: 46056 | C18: VIGENTE | E18: PERSONA 12 | F18: NO | G18: 240000 | H18: 36600 | I18: 203400
A19: 21 | B19: 46056 | C19: VIGENTE | E19: PERSONA 13 | F19: NO | G19: 200000 | H19: 30500 | I19: 169500
A20: 3 | B20: 46056 | C20: VIGENTE | E20: PERSONA 14 | F20: NO | G20: 40000 | H20: 6100 | I20: 33900
... A66: 1710 | B66: 46063 | C66: VIGENTE | E66: PERSONA 60 | F66: NO | G66: 133500 | H66: 20359 | I66: 113141
A67: Totales* : | G67: =SUM(G7:G66)-G8 -> 12647089 | H67: =SUM(H7:H66)-H8 -> 1923342 | I67: =SUM(I7:I66)-I8 -> 10723747
A68: (*) Los valores totales no consideran los montos de las boletas anuladas.

Sheet Mar
A1: Contribuyente: CLUB PROVIDENCIA
A2: RUT : 70847200-K
A4: Informe correpondiente al mes 03 del año 2026
A5: Boleta | G5: Honorarios
A6: N° | B6: Fecha | C6: Estado | D6: Fecha Anulación | E6: Nombre o Razón Social | F6: Soc. Prof. | G6: Brutos | H6: Retenido | I6: Pagado
A7: 3 | B7: 46082 | C7: VIGENTE | E7: PERSONA 1 | F7: NO | G7: 120000 | H7: 18300 | I7: 101700
A8: 3 | B8: 46082 | C8: VIGENTE | E8: PERSONA 2 | F8: NO | G8: 120000 | H8: 18300 | I8: 101700
A9: 233 | B9: 46083 | C9: VIGENTE | E9: PERSONA 3 | F9: NO | G9: 1040708 | H9: 158708 | I9: 882000
A10: 64 | B10: 46083 | C10: VIGENTE | E10: PERSONA 4 | F10: NO | G10: 29499 | H10: 4499 | I10: 25000
A11: 42 | B11: 46083 | C11: VIGENTE | E11: PERSONA 5 | F11: NO | G11: 29240 | H11: 4459 | I11: 24781
A12: 11 | B12: 46083 | C12: VIGENTE | E12: PERSONA 6 | F12: NO | G12: 40000 | H12: 6100 | I12: 33900
A13: 4 | B13: 46083 | C13: VIGENTE | E13: PERSONA 7 | F13: NO | G13: 80000 | H13: 12200 | I13: 67800
A14: 43 | B14: 46084 | C14: VIGENTE | E14: PERSONA 8 | F14: NO | G14: 88496 | H14: 13496 | I14: 75000
A15: 87 | B15: 46086 | C15: VIGENTE | E15: PERSONA 9 | F15: NO | G15: 88500 | H15: 13496 | I15: 75004
A16: 479 | B16: 46090 | C16: VIGENTE | E16: PERSONA 10 | F16: NO | G16: 1103339 | H16: 168259 | I16: 935080
A17: 234 | B17: 46090 | C17: VIGENTE | E17: PERSONA 11 | F17: NO | G17: 832566 | H17: 126966 | I17: 705600
A18: 32 | B18: 46091 | C18: VIGENTE | E18: PERSONA 12 | F18: NO | G18: 235988 | H18: 35988 | I18: 200000
... A46: 13 | B46: 46111 | C46: VIGENTE | E46: PERSONA 40 | F46: NO | G46: 29499 | H46: 4499 | I46: 25000
B47: 46112 | C47: VIGENTE | E47: PERSONA 41 | F47: NO | G47: 360000 | H47: 54900 | I47: 305100
A48: 6 | B48: 46112 | C48: VIGENTE | E48: PERSONA 42 | F48: NO | G48: 80000 | H48: 12200 | I48: 67800
A49: 1 | B49: 46112 | C49: VIGENTE | E49: PERSONA 43 | F49: NO | G49: 80000 | H49: 12200 | I49: 67800
A50: 26 | B50: 46112 | C50: VIGENTE | E50: PERSONA 44 | F50: NO | G50: 40000 | H50: 6100 | I50: 33900
A51: 25 | B51: 46112 | C51: VIGENTE | E51: PERSONA 45 | F51: NO | G51: 400000 | H51: 61000 | I51: 339000
A52: 5 | B52: 46112 | C52: VIGENTE | E52: PERSONA 46 | F52: NO | G52: 80000 | H52: 12200 | I52: 67800
A53: 3 | B53: 46112 | C53: VIGENTE | E53: PERSONA 47 | F53: NO | G53: 120000 | H53: 18300 | I53: 101700
A54: 26 | B54: 46112 | C54: VIGENTE | E54: PERSONA 48 | F54: NO | G54: 160000 | H54: 24400 | I54: 135600
A55: 14 | B55: 46112 | C55: VIGENTE | E55: PERSONA 49 | F55: NO | G55: 120000 | H55: 18300 | I55: 101700
A56: 44 | B56: 46112 | C56: VIGENTE | E56: PERSONA 50 | F56: NO | G56: 206490 | H56: 31490 | I56: 175000
A57: 1711 | B57: 46083 | C57: VIGENTE | E57: PERSONA 51 | F57: NO | G57: 20000 | H57: 3050 | I57: 16950
A58: 1712 | B58: 46083 | C58: VIGENTE | E58: PERSONA 52 | F58: NO | G58: 426000 | H58: 64965 | I58: 361035
A59: 1713 | B59: 46083 | C59: VIGENTE | E59: PERSONA 53 | F59: NO | G59: 210000 | H59: 32025 | I59: 177975
... A61: 1715 | B61: 46104 | C61: VIGENTE | E61: PERSONA 55 | F61: NO | G61: 10000 | H61: 1525 | I61: 8475
A62: Totales* : | G62: =SUM(G7:G61) -> 11890016 | H62: =SUM(H7:H61) -> 1812467 | I62: =SUM(I7:I61) -> 10077549
A63: (*) Los valores totales no consideran los montos de las boletas anuladas.

Sheet Abr
A1: Contribuyente: CLUB PROVIDENCIA
A2: RUT : 70847200-K
A4: Informe correpondiente al mes 04 del año 2026
A5: Boleta | G5: Honorarios
A6: N° | B6: Fecha | C6: Estado | D6: Fecha Anulación | E6: Nombre o Razón Social | F6: Soc. Prof. | G6: Brutos | H6: Retenido | I6: Pagado
A7: 25 | B7: 46113 | C7: VIGENTE | E7: PERSONA 1 | F7: NO | G7: 40000 | H7: 6100 | I7: 33900
A8: 9 | B8: 46113 | C8: VIGENTE | E8: PERSONA 2 | F8: NO | G8: 80000 | H8: 12200 | I8: 67800
A9: 1 | B9: 46113 | C9: VIGENTE | E9: PERSONA 3 | F9: NO | G9: 80000 | H9: 12200 | I9: 67800
A10: 13 | B10: 46113 | C10: VIGENTE | E10: PERSONA 4 | F10: NO | G10: 200000 | H10: 30500 | I10: 169500
A11: 6 | B11: 46113 | C11: VIGENTE | E11: PERSONA 5 | F11: NO | G11: 12000 | H11: 1830 | I11: 10170
A12: 1 | B12: 46115 | C12: VIGENTE | E12: PERSONA 6 | F12: NO | G12: 40000 | H12: 6100 | I12: 33900
A13: 239 | B13: 46118 | C13: VIGENTE | E13: PERSONA 7 | F13: NO | G13: 545133 | H13: 83133 | I13: 462000
A14: 16 | B14: 46118 | C14: VIGENTE | E14: PERSONA 8 | F14: NO | G14: 80000 | H14: 12200 | I14: 67800
A15: 3 | B15: 46119 | C15: VIGENTE | E15: PERSONA 9 | F15: NO | G15: 47198 | H15: 7198 | I15: 40000
A16: 1 | B16: 46120 | C16: VIGENTE | E16: PERSONA 10 | F16: NO | G16: 40000 | H16: 6100 | I16: 33900
A17: 7 | B17: 46120 | C17: NULA | D17: 46120 | E17: PERSONA 11 | F17: NO | G17: 91530 | H17: 13958 | I17: 77572
A18: 8 | B18: 46120 | C18: VIGENTE | E18: PERSONA 12 | F18: NO | G18: 108000 | H18: 16470 | I18: 91530
A19: 1 | B19: 46121 | C19: NULA | D19: 46121 | E19: PERSONA 13 | F19: NO | G19: 200000 | H19: 30500 | I19: 169500
A20: 2 | B20: 46121 | C20: VIGENTE | E20: PERSONA 14 | F20: NO | G20: 200000 | H20: 30500 | I20: 169500
A21: 482 | B21: 46122 | C21: VIGENTE | E21: PERSONA 15 | F21: NO | G21: 2233015 | H21: 340535 | I21: 1892480
A22: 17 | B22: 46125 | C22: VIGENTE | E22: PERSONA 16 | F22: NO | G22: 400000 | H22: 61000 | I22: 339000
A23: 240 | B23: 46125 | C23: VIGENTE | E23: PERSONA 17 | F23: NO | G23: 703717 | H23: 107317 | I23: 596400
A24: 92 | B24: 46126 | C24: NULA | D24: 46132 | E24: PERSONA 18 | F24: NO | G24: 212389 | H24: 32389 | I24: 180000
A25: 3 | B25: 46126 | C25: VIGENTE | E25: PERSONA 19 | F25: NO | G25: 40000 | H25: 6100 | I25: 33900
A26: 25 | B26: 46126 | C26: VIGENTE | E26: PERSONA 20 | F26: NO | G26: 120000 | H26: 18300 | I26: 101700
A27: 7 | B27: 46126 | C27: VIGENTE | E27: PERSONA 21 | F27: NO | G27: 40000 | H27: 6100 | I27: 33900
A28: 27 | B28: 46126 | C28: VIGENTE | E28: PERSONA 22 | F28: NO | G28: 200000 | H28: 30500 | I28: 169500
A29: 27 | B29: 46126 | C29: VIGENTE | E29: PERSONA 23 | F29: NO | G29: 200000 | H29: 30500 | I29: 169500
A30: 6 | B30: 46126 | C30: VIGENTE | E30: PERSONA 24 | F30: NO | G30: 80000 | H30: 12200 | I30: 67800
A31: 4 | B31: 46126 | C31: VIGENTE | E31: PERSONA 25 | F31: NO | G31: 40000 | H31: 6100 | I31: 33900
A32: 14 | B32: 46126 | C32: VIGENTE | E32: PERSONA 26 | F32: NO | G32: 200000 | H32: 30500 | I32: 169500
A33: 27 | B33: 46126 | C33: VIGENTE | E33: PERSONA 27 | F33: NO | G33: 40000 | H33: 6100 | I33: 33900
A34: 15 | B34: 46126 | C34: VIGENTE | E34: PERSONA 28 | F34: NO | G34: 160000 | H34: 24400 | I34: 135600
A35: 17 | B35: 46127 | C35: VIGENTE | E35: PERSONA 29 | F35: NO | G35: 120000 | H35: 18300 | I35: 101700
A36: 11 | B36: 46127 | C36: VIGENTE | E36: PERSONA 30 | F36: NO | G36: 120000 | H36: 18300 | I36: 101700
... A44: 35 | B44: 46134 | C44: VIGENTE | E44: PERSONA 38 | F44: NO | G44: 235988 | H44: 35988 | I44: 200000
A45: 2 | B45: 46136 | C45: NULA | D45: 46147 | E45: PERSONA 39 | F45: NO | G45: 40000 | H45: 6100 | I45: 33900
A46: 318 | B46: 46136 | C46: VIGENTE | E46: PERSONA 40 | F46: NO | G46: 448378 | H46: 68378 | I46: 380000
A47: 30 | B47: 46138 | C47: VIGENTE | E47: PERSONA 41 | F47: NO | G47: 117994 | H47: 17994 | I47: 100000
A48: 242 | B48: 46141 | C48: VIGENTE | E48: PERSONA 42 | F48: NO | G48: 862301 | H48: 131501 | I48: 730800
A49: 45 | B49: 46141 | C49: VIGENTE | E49: PERSONA 43 | F49: NO | G49: 88495 | H49: 13495 | I49: 75000
A50: 243 | B50: 46142 | C50: VIGENTE | E50: PERSONA 44 | F50: NO | G50: 589971 | H50: 89971 | I50: 500000
A51: 1 | B51: 46142 | C51: RECEPTOR | D51: 46148 | E51: PERSONA 45 | F51: NO | G51: 82596 | H51: 12596 | I51: 70000
A52: 44 | B52: 46142 | C52: VIGENTE | E52: PERSONA 46 | F52: NO | G52: 29240 | H52: 4459 | I52: 24781
A53: 1716 | B53: 46113 | C53: VIGENTE | E53: PERSONA 47 | F53: NO | G53: 125000 | H53: 19063 | I53: 105937
A54: 1717 | B54: 46113 | C54: VIGENTE | E54: PERSONA 48 | F54: NO | G54: 91164 | H54: 13903 | I54: 77261
A55: 1718 | B55: 46113 | C55: VIGENTE | E55: PERSONA 49 | F55: NO | G55: 120000 | H55: 18300 | I55: 101700
A56: 1719 | B56: 46113 | C56: VIGENTE | E56: PERSONA 50 | F56: NO | G56: 47418 | H56: 7231 | I56: 40187
A57: 1720 | B57: 46114 | C57: VIGENTE | E57: PERSONA 51 | F57: NO | G57: 23599 | H57: 3599 | I57: 20000
A58: 1721 | B58: 46118 | C58: VIGENTE | E58: PERSONA 52 | F58: NO | G58: 500000 | H58: 76250 | I58: 423750
A59: Totales* : | G59: =SUM(G7:G58)-G17-G19-G24-G45-G51 -> 11241447 | H59: =SUM(H7:H58)-H17-H19-H24-H45-H51 -> 1714322 | I59: =SUM(I7:I58)-I17-I19-I24-I45-I51 -> 9527125
A60: (*) Los valores totales no consideran los montos de las boletas anuladas.

Sheet May
A1: Contribuyente: CLUB PROVIDENCIA
A2: RUT : 70847200-K
A4: Informe correpondiente al mes 05 del año 2026
A5: Boleta | G5: Honorarios
A6: N° | B6: Fecha | C6: Estado | D6: Fecha Anulación | E6: Nombre o Razón Social | F6: Soc. Prof. | G6: Brutos | H6: Retenido | I6: Pagado
A7: 244 | B7: 46146 | C7: VIGENTE | E7: PERSONA 1 | G7: 426195 | H7: 64995 | I7: 361200
A8: 6 | B8: 46147 | C8: VIGENTE | E8: PERSONA 2 | G8: 80000 | H8: 12200 | I8: 67800
A9: 26 | B9: 46147 | C9: VIGENTE | E9: PERSONA 3 | G9: 80000 | H9: 12200 | I9: 67800
A10: 4 | B10: 46147 | C10: VIGENTE | E10: PERSONA 4 | G10: 160000 | H10: 24400 | I10: 135600
A11: 60 | B11: 46147 | C11: VIGENTE | E11: PERSONA 5 | G11: 40000 | H11: 6100 | I11: 33900
A12: 10 | B12: 46147 | C12: VIGENTE | E12: PERSONA 6 | G12: 80000 | H12: 12200 | I12: 67800
A13: 6 | B13: 46147 | C13: VIGENTE | E13: PERSONA 7 | G13: 120000 | H13: 18300 | I13: 101700
A14: 28 | B14: 46147 | C14: VIGENTE | E14: PERSONA 8 | G14: 80000 | H14: 12200 | I14: 67800
A15: 29 | B15: 46147 | C15: VIGENTE | E15: PERSONA 9 | G15: 280000 | H15: 42700 | I15: 237300
A16: 7 | B16: 46147 | C16: VIGENTE | E16: PERSONA 10 | G16: 40000 | H16: 6100 | I16: 33900
A17: 12 | B17: 46147 | C17: VIGENTE | E17: PERSONA 11 | G17: 80000 | H17: 12200 | I17: 67800
A18: 5 | B18: 46147 | C18: VIGENTE | E18: PERSONA 12 | G18: 120000 | H18: 18300 | I18: 101700
... A43: 30 | B43: 46158 | C43: VIGENTE | E43: PERSONA 37 | G43: 280000 | H43: 42700 | I43: 237300
A44: 2 | B44: 46158 | C44: VIGENTE | D44: 46160 | E44: PERSONA 38 | G44: 40 | H44: 6 | I44: 34
A45: 13 | B45: 46158 | C45: VIGENTE | E45: PERSONA 39 | G45: 120000 | H45: 18300 | I45: 101700
A46: 11 | B46: 46158 | C46: VIGENTE | E46: PERSONA 40 | G46: 320000 | H46: 48800 | I46: 271200
A47: 17 | B47: 46158 | C47: VIGENTE | E47: PERSONA 41 | G47: 80000 | H47: 12200 | I47: 67800
A48: 10 | B48: 46158 | C48: VIGENTE | E48: PERSONA 42 | G48: 160000 | H48: 24400 | I48: 135600
A49: 5 | B49: 46159 | C49: VIGENTE | E49: PERSONA 43 | G49: 40000 | H49: 6100 | I49: 33900
A50: 18 | B50: 46159 | C50: VIGENTE | E50: PERSONA 44 | G50: 120000 | H50: 18300 | I50: 101700
A51: 18 | B51: 46159 | C51: VIGENTE | E51: PERSONA 45 | G51: 120000 | H51: 18300 | I51: 101700
A52: 246 | B52: 46160 | C52: VIGENTE | E52: PERSONA 46 | G52: 763186 | H52: 116386 | I52: 646800
A53: 7 | B53: 46160 | C53: VIGENTE | E53: PERSONA 47 | G53: 80000 | H53: 12200 | I53: 67800
A54: 3 | B54: 46160 | C54: VIGENTE | E54: PERSONA 48 | G54: 40000 | H54: 6100 | I54: 33900
A55: 1 | B55: 46160 | C55: VIGENTE | E55: PERSONA 49 | G55: 40000 | H55: 6100 | I55: 33900
A56: 16 | B56: 46160 | C56: VIGENTE | E56: PERSONA 50 | G56: 280000 | H56: 42700 | I56: 237300
... A58: 195 | B58: 46161 | C58: VIGENTE | E58: PERSONA 52 | G58: 436106 | H58: 66506 | I58: 369600
A59: 4 | B59: 46161 | C59: VIGENTE | D59: 46162 | E59: PERSONA 53 | G59: 141593 | H59: 21593 | I59: 120000
A60: 5 | B60: 46161 | C60: VIGENTE | E60: PERSONA 54 | G60: 120000 | H60: 18300 | I60: 101700
A61: 247 | B61: 46167 | C61: VIGENTE | E61: PERSONA 55 | G61: 353982 | H61: 53982 | I61: 300000
A62: 248 | B62: 46170 | C62: VIGENTE | E62: PERSONA 56 | G62: 495575 | H62: 75575 | I62: 420000
A63: 249 | B63: 46171 | C63: VIGENTE | E63: PERSONA 57 | G63: 644248 | H63: 98248 | I63: 546000
A64: 68 | B64: 46172 | C64: VIGENTE | E64: PERSONA 58 | G64: 88497 | H64: 13496 | I64: 75001
A65: 1722 | B65: 46148 | C65: VIGENTE | E65: PERSONA 59 | G65: 40500 | H65: 6176 | I65: 34324
A66: 1723 | B66: 46148 | C66: VIGENTE | E66: PERSONA 60 | G66: 72000 | H66: 10980 | I66: 61020
A67: 1724 | B67: 46148 | C67: VIGENTE | E67: PERSONA 61 | G67: 61140 | H67: 9324 | I67: 51816
A68: 1725 | B68: 46148 | C68: VIGENTE | E68: PERSONA 62 | G68: 387220 | H68: 59051 | I68: 328169
A69: 1726 | B69: 46148 | C69: VIGENTE | E69: PERSONA 63 | G69: 46874 | H69: 7148 | I69: 39726
A70: 1727 | B70: 46148 | C70: VIGENTE | E70: PERSONA 64 | G70: 40760 | H70: 6216 | I70: 34544
A71: 1728 | B71: 46160 | C71: VIGENTE | E71: PERSONA 65 | G71: 23599 | H71: 3599 | I71: 20000
A72: Totales* : | G72: =SUM(G7:G71)-G44-G59 -> 12062100 | H72: =SUM(H7:H71)-H44-H59 -> 1839471 | I72: =SUM(I7:I71)-I44-I59 -> 10222629
A73: (*) Los valores totales no consideran los montos de las boletas anuladas.

Sheet Jun
A1: Contribuyente: CLUB PROVIDENCIA
A2: RUT : 70847200-K
A4: Informe correpondiente al mes 06 del año 2026
A5: Boleta | G5: Honorarios
A6: N° | B6: Fecha | C6: Estado | D6: Fecha Anulación | E6: Nombre o Razón Social | F6: Soc. Prof. | G6: Brutos | H6: Retenido | I6: Pagado
A7: 6 | B7: 46174 | C7: VIGENTE | E7: PERSONA 1 | G7: 240000 | H7: 36600 | I7: 203400
A8: 11 | B8: 46174 | C8: VIGENTE | E8: PERSONA 2 | G8: 160000 | H8: 24400 | I8: 135600
A9: 11 | B9: 46174 | C9: VIGENTE | E9: PERSONA 3 | G9: 80000 | H9: 12200 | I9: 67800
A10: 30 | B10: 46174 | C10: VIGENTE | E10: PERSONA 4 | G10: 120000 | H10: 18300 | I10: 101700
A11: 31 | B11: 46174 | C11: VIGENTE | E11: PERSONA 5 | G11: 360000 | H11: 54900 | I11: 305100
A12: 19 | B12: 46174 | C12: VIGENTE | E12: PERSONA 6 | G12: 80000 | H12: 12200 | I12: 67800
A13: 6 | B13: 46174 | C13: VIGENTE | E13: PERSONA 7 | G13: 40000 | H13: 6100 | I13: 33900
A14: 17 | B14: 46174 | C14: VIGENTE | E14: PERSONA 8 | G14: 240000 | H14: 36600 | I14: 203400
A15: 12 | B15: 46174 | C15: VIGENTE | E15: PERSONA 9 | G15: 440000 | H15: 67100 | I15: 372900
A16: 29 | B16: 46174 | C16: VIGENTE | E16: PERSONA 10 | G16: 160000 | H16: 24400 | I16: 135600
A17: 18 | B17: 46174 | C17: VIGENTE | E17: PERSONA 11 | G17: 120000 | H17: 18300 | I17: 101700
A18: 11 | B18: 46174 | C18: VIGENTE | E18: PERSONA 12 | G18: 480000 | H18: 73200 | I18: 406800
... A39: 16 | B39: 46188 | C39: VIGENTE | E39: PERSONA 33 | G39: 80000 | H39: 12200 | I39: 67800
A40: 8 | B40: 46189 | C40: NULA | D40: 46189 | E40: PERSONA 34 | G40: 40000 | H40: 6100 | I40: 33900
A41: 252 | B41: 46196 | C41: VIGENTE | E41: PERSONA 35 | G41: 703717 | H41: 107317 | I41: 596400
A42: 1 | B42: 46197 | C42: VIGENTE | E42: PERSONA 36 | G42: 40000 | H42: 6100 | I42: 33900
A43: 253 | B43: 46198 | C43: VIGENTE | E43: PERSONA 37 | G43: 495575 | H43: 75575 | I43: 420000
A44: 2 | B44: 46198 | C44: OBSERVADA | D44: 46203 | E44: PERSONA 38 | G44: 40000 | H44: 6100 | I44: 33900
A45: 2 | B45: 46200 | C45: VIGENTE | E45: PERSONA 39 | G45: 80000 | H45: 12200 | I45: 67800
A46: 254 | B46: 46203 | C46: VIGENTE | E46: PERSONA 40 | G46: 353982 | H46: 53982 | I46: 300000
A47: 69 | B47: 46203 | C47: VIGENTE | E47: PERSONA 41 | G47: 29499 | H47: 4499 | I47: 25000
A48: 1729 | B48: 46174 | C48: VIGENTE | E48: PERSONA 42 | G48: 197280 | H48: 30085 | I48: 167195
A49: 1730 | B49: 46174 | C49: VIGENTE | E49: PERSONA 43 | G49: 71054 | H49: 10836 | I49: 60218
A50: 1731 | B50: 46174 | C50: VIGENTE | E50: PERSONA 44 | G50: 94836 | H50: 14462 | I50: 80374
A51: 1732 | B51: 46174 | C51: VIGENTE | E51: PERSONA 45 | G51: 47500 | H51: 7244 | I51: 40256
A52: 1733 | B52: 46174 | C52: VIGENTE | E52: PERSONA 46 | G52: 100076 | H52: 15262 | I52: 84814
A53: 1734 | B53: 46174 | C53: VIGENTE | E53: PERSONA 47 | G53: 24000 | H53: 3660 | I53: 20340
A54: 1735 | B54: 46174 | C54: VIGENTE | E54: PERSONA 48 | G54: 22418 | H54: 3419 | I54: 18999
A55: 1736 | B55: 46197 | C55: VIGENTE | E55: PERSONA 49 | G55: 60000 | H55: 9150 | I55: 50850
A56: 1737 | B56: 46197 | C56: VIGENTE | E56: PERSONA 50 | G56: 105171 | H56: 16039 | I56: 89132
A57: Totales* : | G57: =SUM(G7:G56)-G40-G44 -> 9666552 | H57: =SUM(H7:H56)-H40-H44 -> 1461188 | I57: =SUM(I7:I56)-I40-I44 -> 8205364
A58: (*) Los valores totales no consideran los montos de las boletas anuladas.

Sheet Jul
A1: Contribuyente: CLUB PROVIDENCIA
A2: RUT : 70847200-K
A4: Informe correpondiente al mes 07 del año 2026
A5: Boleta | G5: Honorarios
A6: N° | B6: Fecha | C6: Estado | D6: Fecha Anulación | E6: Nombre o Razón Social | F6: Soc. Prof. | G6: Brutos | H6: Retenido | I6: Pagado
A7: 27 | B7: 46204 | C7: VIGENTE | E7: PERSONA 1 | G7: 80000 | H7: 12200 | I7: 67800
A8: 21 | B8: 46204 | C8: VIGENTE | E8: PERSONA 2 | G8: 80000 | H8: 12200 | I8: 67800
A9: 12 | B9: 46204 | C9: VIGENTE | E9: PERSONA 3 | G9: 40000 | H9: 6100 | I9: 33900
A10: 32 | B10: 46204 | C10: VIGENTE | E10: PERSONA 4 | G10: 120000 | H10: 18300 | I10: 101700
A11: 33 | B11: 46204 | C11: VIGENTE | E11: PERSONA 5 | G11: 240000 | H11: 36600 | I11: 203400
A12: 19 | B12: 46204 | C12: VIGENTE | E12: PERSONA 6 | G12: 320000 | H12: 48800 | I12: 271200
A13: 14 | B13: 46204 | C13: VIGENTE | E13: PERSONA 7 | G13: 440000 | H13: 67100 | I13: 372900
A14: 31 | B14: 46204 | C14: VIGENTE | E14: PERSONA 8 | G14: 160000 | H14: 24400 | I14: 135600
A15: 20 | B15: 46204 | C15: VIGENTE | E15: PERSONA 9 | G15: 120000 | H15: 18300 | I15: 101700
A16: 21 | B16: 46205 | C16: VIGENTE | E16: PERSONA 10 | G16: 80000 | H16: 12200 | I16: 67800
A17: 17 | B17: 46205 | C17: VIGENTE | E17: PERSONA 11 | G17: 120000 | H17: 18300 | I17: 101700
A18: 45 | B18: 46206 | C18: VIGENTE | E18: PERSONA 12 | G18: 29240 | H18: 4459 | I18: 24781
... A39: 1743 | B39: 46216 | C39: VIGENTE | E39: PERSONA 33 | G39: 25000 | H39: 3813 | I39: 21187
A40: Totales* : | G40: =SUM(G7:G39) -> 6861057 | H40: =SUM(H7:H39) -> 1046311 | I40: =SUM(I7:I39) -> 5814746
A41: (*) Los valores totales no consideran los montos de las boletas anuladas.

Sheet Ago
A1: Contribuyente: CLUB PROVIDENCIA
A2: RUT : 70847200-K
A4: Informe correpondiente al mes 08 del año 2026
A5: Boleta | G5: Honorarios
A6: N° | B6: Fecha | C6: Estado | D6: Fecha Anulación | E6: Nombre o Razón Social | F6: Soc. Prof. | G6: Brutos | H6: Retenido | I6: Pagado
A7: 21 | B7: 46237 | C7: VIGENTE | E7: PERSONA 1 | G7: 1140000 | H7: 173850 | I7: 966150
A8: 42 | B8: 46237 | C8: VIGENTE | E8: PERSONA 2 | G8: 235988 | H8: 35988 | I8: 200000
A9: 43 | B9: 46237 | C9: VIGENTE | E9: PERSONA 3 | G9: 235988 | H9: 35988 | I9: 200000
A10: 258 | B10: 46237 | C10: VIGENTE | E10: PERSONA 4 | G10: 961416 | H10: 146616 | I10: 814800
A11: 259 | B11: 46237 | C11: VIGENTE | E11: PERSONA 5 | G11: 471976 | H11: 71976 | I11: 400000
A12: 3 | B12: 46238 | C12: VIGENTE | E12: PERSONA 6 | G12: 40000 | H12: 6100 | I12: 33900
A13: 28 | B13: 46238 | C13: VIGENTE | E13: PERSONA 7 | G13: 40000 | H13: 6100 | I13: 33900
A14: 37 | B14: 46238 | C14: VIGENTE | E14: PERSONA 8 | G14: 120000 | H14: 18300 | I14: 101700
A15: 22 | B15: 46238 | C15: VIGENTE | E15: PERSONA 9 | G15: 120000 | H15: 18300 | I15: 101700
A16: 21 | B16: 46238 | C16: VIGENTE | E16: PERSONA 10 | G16: 200000 | H16: 30500 | I16: 169500
A17: 33 | B17: 46238 | C17: VIGENTE | E17: PERSONA 11 | G17: 80000 | H17: 12200 | I17: 67800
A18: 14 | B18: 46238 | C18: VIGENTE | E18: PERSONA 12 | G18: 40000 | H18: 6100 | I18: 33900
... A45: 262 | B45: 46258 | C45: VIGENTE | E45: PERSONA 39 | G45: 235988 | H45: 35988 | I45: 200000
A46: 8 | B46: 46261 | C46: NULA | D46: 46262 | E46: PERSONA 40 | G46: 35398 | H46: 5398 | I46: 30000
A47: 70 | B47: 46262 | C47: VIGENTE | E47: PERSONA 41 | G47: 58998 | H47: 8997 | I47: 50001
A48: 71 | B48: 46262 | C48: VIGENTE | E48: PERSONA 42 | G48: 29499 | H48: 4499 | I48: 25000
A49: 7 | B49: 46262 | C49: NULA | D49: 46262 | E49: PERSONA 43 | G49: 35398 | H49: 5398 | I49: 30000
A50: 263 | B50: 46265 | C50: VIGENTE | E50: PERSONA 44 | G50: 235988 | H50: 35988 | I50: 200000
A51: 1744 | B51: 46239 | C51: VIGENTE | E51: PERSONA 45 | G51: 50380 | H51: 7683 | I51: 42697
A52: 1745 | B52: 46239 | C52: VIGENTE | E52: PERSONA 46 | G52: 374638 | H52: 57132 | I52: 317506
A53: 1746 | B53: 46244 | C53: VIGENTE | E53: PERSONA 47 | G53: 12979 | H53: 1979 | I53: 11000
A54: Totales* : | G54: =SUM(G7:G53)-G46-G49 -> 11479030 | H54: =SUM(H7:H53)-H46-H49 -> 1750551 | I54: =SUM(I7:I53)-I46-I49 -> 9728479
A55: (*) Los valores totales no consideran los montos de las boletas anuladas.

Sheet Sep
A1: Contribuyente: CLUB PROVIDENCIA
A2: RUT : 70847200-K
A4: Informe correpondiente al mes 09 del año 2026
A5: Boleta | G5: Honorarios
A6: N° | B6: Fecha | C6: Estado | D6: Fecha Anulación | E6: Nombre o Razón Social | F6: Soc. Prof. | G6: Brutos | H6: Retenido | I6: Pagado
A7: 22 | B7: 46266 | C7: VIGENTE | E7: PERSONA 1 | G7: 1800000 | H7: 274500 | I7: 1525500
A8: 30 | B8: 46266 | C8: VIGENTE | E8: PERSONA 2 | G8: 40000 | H8: 6100 | I8: 33900
A9: 35 | B9: 46266 | C9: VIGENTE | E9: PERSONA 3 | G9: 120000 | H9: 18300 | I9: 101700
A10: 39 | B10: 46266 | C10: VIGENTE | E10: PERSONA 4 | G10: 240000 | H10: 36600 | I10: 203400
A11: 24 | B11: 46266 | C11: VIGENTE | E11: PERSONA 5 | G11: 80000 | H11: 12200 | I11: 67800
A12: 3 | B12: 46266 | C12: VIGENTE | E12: PERSONA 6 | G12: 40000 | H12: 6100 | I12: 33900
A13: 3 | B13: 46266 | C13: VIGENTE | E13: PERSONA 7 | G13: 120000 | H13: 18300 | I13: 101700
A14: 1 | B14: 46266 | C14: VIGENTE | E14: PERSONA 8 | G14: 47198 | H14: 7198 | I14: 40000
A15: 2 | B15: 46266 | C15: NULA | D15: 46280 | E15: PERSONA 9 | G15: 120000 | H15: 18300 | I15: 101700
A16: 23 | B16: 46266 | C16: VIGENTE | E16: PERSONA 10 | G16: 400000 | H16: 61000 | I16: 339000
A17: 18 | B17: 46266 | C17: VIGENTE | E17: PERSONA 11 | G17: 560000 | H17: 85400 | I17: 474600
A18: 35 | B18: 46266 | C18: VIGENTE | E18: PERSONA 12 | G18: 80000 | H18: 12200 | I18: 67800
A19: 23 | B19: 46266 | C19: VIGENTE | E19: PERSONA 13 | G19: 120000 | H19: 18300 | I19: 101700
A20: 16 | B20: 46266 | C20: VIGENTE | E20: PERSONA 14 | G20: 80000 | H20: 12200 | I20: 67800
A21: 14 | B21: 46266 | C21: VIGENTE | E21: PERSONA 15 | G21: 280000 | H21: 42700 | I21: 237300
A22: 20 | B22: 46266 | C22: VIGENTE | E22: PERSONA 16 | G22: 80000 | H22: 12200 | I22: 67800
A23: 10 | B23: 46267 | C23: VIGENTE | E23: PERSONA 17 | G23: 120000 | H23: 18300 | I23: 101700
A24: 14 | B24: 46268 | C24: NULA | D24: 46280 | E24: PERSONA 18 | G24: 40000 | H24: 6100 | I24: 33900
A25: 16 | B25: 46268 | C25: VIGENTE | E25: PERSONA 19 | G25: 80000 | H25: 12200 | I25: 67800
A26: 3 | B26: 46268 | C26: NULA | D26: 46280 | E26: PERSONA 20 | G26: 120000 | H26: 18300 | I26: 101700
A27: 4 | B27: 46269 | C27: VIGENTE | E27: PERSONA 21 | G27: 390000 | H27: 59475 | I27: 330525
A28: 15 | B28: 46269 | C28: NULA | D28: 46280 | E28: PERSONA 22 | G28: 40000 | H28: 6100 | I28: 33900
A29: 37 | B29: 46270 | C29: VIGENTE | E29: PERSONA 23 | G29: 235988 | H29: 35988 | I29: 200000
A30: 1 | B30: 46270 | C30: VIGENTE | E30: PERSONA 24 | G30: 40000 | H30: 6100 | I30: 33900
A31: 48 | B31: 46270 | C31: VIGENTE | E31: PERSONA 25 | G31: 29498 | H31: 4498 | I31: 25000
A32: 500 | B32: 46272 | C32: VIGENTE | E32: PERSONA 26 | G32: 361714 | H32: 55161 | I32: 306553
A33: 501 | B33: 46272 | C33: VIGENTE | E33: PERSONA 27 | G33: 1446321 | H33: 220564 | I33: 1225757
A34: 254 | B34: 46272 | C34: VIGENTE | E34: PERSONA 28 | G34: 235988 | H34: 35988 | I34: 200000
A35: 44 | B35: 46273 | C35: VIGENTE | E35: PERSONA 29 | G35: 235988 | H35: 35988 | I35: 200000
A36: 45 | B36: 46273 | C36: VIGENTE | E36: PERSONA 30 | G36: 235988 | H36: 35988 | I36: 200000
A37: 4 | B37: 46273 | C37: VIGENTE | E37: PERSONA 31 | G37: 80000 | H37: 12200 | I37: 67800
A38: 24 | B38: 46274 | C38: VIGENTE | E38: PERSONA 32 | G38: 235988 | H38: 35988 | I38: 200000
A39: 264 | B39: 46274 | C39: VIGENTE | E39: PERSONA 33 | G39: 921770 | H39: 140570 | I39: 781200
A40: 54 | B40: 46278 | C40: VIGENTE | E40: PERSONA 34 | G40: 1415929 | H40: 215929 | I40: 1200000
... A58: 41 | B58: 46280 | C58: VIGENTE | E58: PERSONA 52 | G58: 80000 | H58: 12200 | I58: 67800
A59: 3 | B59: 46280 | C59: NULA | D59: 46293 | E59: PERSONA 53 | G59: 120000 | H59: 18300 | I59: 101700
A60: 25 | B60: 46280 | C60: VIGENTE | E60: PERSONA 54 | G60: 240000 | H60: 36600 | I60: 203400
A61: 1 | B61: 46280 | C61: VIGENTE | E61: PERSONA 55 | G61: 40000 | H61: 6100 | I61: 33900
A62: 14 | B62: 46280 | C62: VIGENTE | E62: PERSONA 56 | G62: 80000 | H62: 12200 | I62: 67800
A63: 1 | B63: 46280 | C63: NULA | D63: 46281 | E63: PERSONA 57 | G63: 120000 | H63: 18300 | I63: 101700
A64: 1 | B64: 46280 | C64: VIGENTE | E64: PERSONA 58 | G64: 80000 | H64: 12200 | I64: 67800
A65: 4 | B65: 46280 | C65: VIGENTE | E65: PERSONA 59 | G65: 120000 | H65: 18300 | I65: 101700
A66: 4 | B66: 46280 | C66: VIGENTE | E66: PERSONA 60 | G66: 80000 | H66: 12200 | I66: 67800
A67: 4 | B67: 46280 | C67: VIGENTE | E67: PERSONA 61 | G67: 94395 | H67: 14395 | I67: 80000
A68: 24 | B68: 46280 | C68: VIGENTE | E68: PERSONA 62 | G68: 440000 | H68: 67100 | I68: 372900
A69: 19 | B69: 46280 | C69: VIGENTE | E69: PERSONA 63 | G69: 520000 | H69: 79300 | I69: 440700
A70: 36 | B70: 46280 | C70: VIGENTE | E70: PERSONA 64 | G70: 120000 | H70: 18300 | I70: 101700
A71: 24 | B71: 46280 | C71: VIGENTE | E71: PERSONA 65 | G71: 40000 | H71: 6100 | I71: 33900
A72: 17 | B72: 46280 | C72: VIGENTE | E72: PERSONA 66 | G72: 280000 | H72: 42700 | I72: 237300
A73: 15 | B73: 46280 | C73: VIGENTE | E73: PERSONA 67 | G73: 360000 | H73: 54900 | I73: 305100
A74: 4 | B74: 46281 | C74: VIGENTE | E74: PERSONA 68 | G74: 40000 | H74: 6100 | I74: 33900
A75: 2 | B75: 46281 | C75: NULA | D75: 46281 | E75: PERSONA 69 | G75: 120000 | H75: 18300 | I75: 101700
A76: 3 | B76: 46281 | C76: VIGENTE | E76: PERSONA 70 | G76: 120000 | H76: 18300 | I76: 101700
A77: 262 | B77: 46286 | C77: NULA | D77: 46294 | E77: PERSONA 71 | G77: 235988 | H77: 35988 | I77: 200000
A78: 1 | B78: 46287 | C78: VIGENTE | E78: PERSONA 72 | G78: 58998 | H78: 8997 | I78: 50001
A79: 14 | B79: 46287 | C79: VIGENTE | E79: PERSONA 73 | G79: 29499 | H79: 4499 | I79: 25000
A80: 49 | B80: 46287 | C80: VIGENTE | E80: PERSONA 74 | G80: 94395 | H80: 14395 | I80: 80000
A81: 1 | B81: 46288 | C81: VIGENTE | E81: PERSONA 75 | G81: 58998 | H81: 8997 | I81: 50001
A82: 265 | B82: 46293 | C82: VIGENTE | E82: PERSONA 76 | G82: 981239 | H82: 149639 | I82: 831600
A83: 1 | B83: 46294 | C83: VIGENTE | E83: PERSONA 77 | G83: 950000 | H83: 144875 | I83: 805125
A84: 1747 | B84: 46267 | C84: VIGENTE | E84: PERSONA 78 | G84: 226451 | H84: 34534 | I84: 191917
A85: 1748 | B85: 46267 | C85: VIGENTE | E85: PERSONA 79 | G85: 70380 | H85: 10733 | I85: 59647
A86: 1749 | B86: 46267 | C86: VIGENTE | E86: PERSONA 80 | G86: 61552 | H86: 9387 | I86: 52165
A87: 1750 | B87: 46267 | C87: VIGENTE | E87: PERSONA 81 | G87: 63178 | H87: 9635 | I87: 53543
A88: 1751 | B88: 46267 | C88: VIGENTE | E88: PERSONA 82 | G88: 59000 | H88: 8998 | I88: 50002
A89: 1752 | B89: 46270 | C89: VIGENTE | E89: PERSONA 83 | G89: 60000 | H89: 9150 | I89: 50850
... A92: 1755 | B92: 46288 | C92: VIGENTE | E92: PERSONA 86 | G92: 94395 | H92: 14395 | I92: 80000
A93: Totales* : | G93: =SUM(G7:G92)-G15-G24-G26-G28-G59-G63-G75-G77 -> 20293990 | H93: =SUM(H7:H92)-H15-H24-H26-H28-H59-H63-H75-H77 -> 3094832 | I93: =SUM(I7:I92)-I15-I24-I26-I28-I59-I63-I75-I77 -> 17199158
A94: (*) Los valores totales no consideran los montos de las boletas anuladas.

Sheet Oct

Sheet Nov

Sheet Dic
