Workbook

Sheet 2025
B2: TRANSPARENCIA CLUB PROVIDENCIA 2025
B4: Mes | C4: 45658 | D4: 45689 | E4: 45717 | F4: 45748 | G4: 45778 | H4: 45809 | I4: 45839 | J4: 45870 | K4: 45901 | L4: 45931 | M4: 45962 | N4: 45992
B5: SUELDO BASE
B6: BONOS
B7: HORAS EXTRAS
B8: TOTAL BRUTO | C8: =Ene!G87 -> 13139749 | D8: =Feb!G38 -> 7143146 | E8: =Mar!H86 -> 12856508 | F8: 12856508 | G8: 12436327 | H8: 13453639 | I8: 13989053 | J8: 9761053 | K8: 14084696
B9: TOTAL LIQUIDO | C9: =Ene!I87 -> 11240285 | D9: =Feb!I38 -> 6107388 | E9: =Mar!J86 -> 10992316 | F9: 10992316 | G9: 10633057 | H9: 11502861 | I9: 11960638 | J9: 8350875 | K9: 12042416
B10: CANTIDAD TRABAJADORES | C10: =80-2 -> 78 | D10: =31-3 -> 28 | E10: =13+9 -> 22 | F10: 74 | G10: 67 | H10: 73 | I10: 70 | J10: 37 | K10: 65

Sheet Ene
A1: Contribuyente: CLUB PROVIDENCIA
A2: RUT : 70847200-K
A4: Informe correpondiente al mes 01 del año 2025
A5: Boleta | G5: Honorarios
A6: N° | B6: Fecha | C6: Estado | D6: Fecha Anulación | E6: Nombre o Razón Social | F6: Soc. Prof. | G6: Brutos | H6: Retenido | I6: Pagado
A7: 24 | B7: 45659 | C7: VIGENTE | E7: PERSONA 1 | F7: NO | G7: 127719 | H7: 18519 | I7: 109200
A8: 25 | B8: 45660 | C8: VIGENTE | E8: PERSONA 2 | F8: NO | G8: 127717 | H8: 18519 | I8: 109198
A9: 25 | B9: 45660 | C9: VIGENTE | E9: PERSONA 3 | F9: NO | G9: 93567 | H9: 13567 | I9: 80000
A10: 44 | B10: 45661 | C10: VIGENTE | E10: PERSONA 4 | F10: NO | G10: 93567 | H10: 13567 | I10: 80000
A11: 11 | B11: 45661 | C11: VIGENTE | E11: PERSONA 5 | F11: NO | G11: 93567 | H11: 13567 | I11: 80000
A12: 55 | B12: 45664 | C12: VIGENTE | E12: PERSONA 6 | F12: NO | G12: 40000 | H12: 5800 | I12: 34200
A13: 151 | B13: 45664 | C13: VIGENTE | E13: PERSONA 7 | F13: NO | G13: 403509 | H13: 58509 | I13: 345000
A14: 19 | B14: 45664 | C14: VIGENTE | E14: PERSONA 8 | F14: NO | G14: 93567 | H14: 13567 | I14: 80000
A15: 1 | B15: 45666 | C15: VIGENTE | E15: PERSONA 9 | F15: NO | G15: 93567 | H15: 13567 | I15: 80000
A16: 421 | B16: 45667 | C16: VIGENTE | E16: PERSONA 10 | F16: NO | G16: 426844 | H16: 61892 | I16: 364952
A17: 29 | B17: 45667 | C17: VIGENTE | E17: PERSONA 11 | F17: NO | G17: 140000 | H17: 20300 | I17: 119700
A18: 152 | B18: 45670 | C18: VIGENTE | E18: PERSONA 12 | F18: NO | G18: 599298 | H18: 86898 | I18: 512400
... A58: 1519 | B58: 45659 | C58: VIGENTE | E58: PERSONA 52 | F58: NO | G58: 140351 | H58: 20351 | I58: 120000
A59: 1520 | B59: 45659 | C59: ANULADA | D59: 45659 | E59: PERSONA 53 | G59: 140351 | H59: 20351 | I59: 120000
A60: 1521 | B60: 45659 | C60: VIGENTE | E60: PERSONA 54 | F60: NO | G60: 140351 | H60: 20351 | I60: 120000
A61: 1522 | B61: 45659 | C61: VIGENTE | E61: PERSONA 55 | F61: NO | G61: 93567 | H61: 13567 | I61: 80000
A62: 1523 | B62: 45659 | C62: VIGENTE | E62: PERSONA 56 | F62: NO | G62: 140351 | H62: 20351 | I62: 120000
A63: 1524 | B63: 45659 | C63: VIGENTE | E63: PERSONA 57 | F63: NO | G63: 140351 | H63: 20351 | I63: 120000
A64: 1525 | B64: 45659 | C64: VIGENTE | E64: PERSONA 58 | F64: NO | G64: 140351 | H64: 20351 | I64: 120000
A65: 1526 | B65: 45659 | C65: VIGENTE | E65: PERSONA 59 | F65: NO | G65: 140351 | H65: 20351 | I65: 120000
A66: 1527 | B66: 45659 | C66: VIGENTE | E66: PERSONA 60 | F66: NO | G66: 140351 | H66: 20351 | I66: 120000
A67: 1528 | B67: 45659 | C67: VIGENTE | E67: PERSONA 61 | F67: NO | G67: 140351 | H67: 20351 | I67: 120000
A68: 1529 | B68: 45659 | C68: VIGENTE | E68: PERSONA 62 | F68: NO | G68: 140351 | H68: 20351 | I68: 120000
A69: 1530 | B69: 45659 | C69: VIGENTE | E69: PERSONA 63 | F69: NO | G69: 140351 | H69: 20351 | I69: 120000
A70: 1531 | B70: 45659 | C70: VIGENTE | E70: PERSONA 64 | F70: NO | G70: 140351 | H70: 20351 | I70: 120000
A71: 1532 | B71: 45659 | C71: VIGENTE | E71: PERSONA 65 | F71: NO | G71: 140351 | H71: 20351 | I71: 120000
A72: 1533 | B72: 45659 | C72: VIGENTE | E72: PERSONA 66 | F72: NO | G72: 140351 | H72: 20351 | I72: 120000
A73: 1534 | B73: 45660 | C73: ANULADA | D73: 45660 | E73: PERSONA 67 | G73: 99996 | H73: 14499 | I73: 85497
A74: 1535 | B74: 45660 | C74: VIGENTE | E74: PERSONA 68 | F74: NO | G74: 22838 | H74: 3312 | I74: 19526
A75: 1536 | B75: 45660 | C75: VIGENTE | E75: PERSONA 69 | F75: NO | G75: 99996 | H75: 14499 | I75: 85497
A76: 1537 | B76: 45660 | C76: VIGENTE | E76: PERSONA 70 | F76: NO | G76: 175750 | H76: 25484 | I76: 150266
A77: 1538 | B77: 45660 | C77: VIGENTE | E77: PERSONA 71 | F77: NO | G77: 144300 | H77: 20924 | I77: 123376
A78: 1539 | B78: 45660 | C78: VIGENTE | E78: PERSONA 72 | F78: NO | G78: 38887 | H78: 5639 | I78: 33248
A79: 1540 | B79: 45663 | C79: VIGENTE | E79: PERSONA 73 | F79: NO | G79: 2925 | H79: 424 | I79: 2501
A80: 1541 | B80: 45663 | C80: VIGENTE | E80: PERSONA 74 | F80: NO | G80: 200010 | H80: 29001 | I80: 171009
A81: 1542 | B81: 45663 | C81: VIGENTE | E81: PERSONA 75 | F81: NO | G81: 200010 | H81: 29001 | I81: 171009
A82: 1543 | B82: 45663 | C82: VIGENTE | E82: PERSONA 76 | F82: NO | G82: 200010 | H82: 29001 | I82: 171009
A83: 1544 | B83: 45663 | C83: VIGENTE | E83: PERSONA 77 | F83: NO | G83: 40002 | H83: 5800 | I83: 34202
A84: 1545 | B84: 45663 | C84: VIGENTE | E84: PERSONA 78 | F84: NO | G84: 40002 | H84: 5800 | I84: 34202
A85: 1546 | B85: 45674 | C85: VIGENTE | E85: PERSONA 79 | F85: NO | G85: 218300 | H85: 31654 | I85: 186646
A86: 1547 | B86: 45674 | C86: VIGENTE | E86: PERSONA 80 | F86: NO | G86: 43789 | H86: 6349 | I86: 37440
A87: Totales* : | G87: =SUM(G7:G86)-G59-G73 -> 13139749 | H87: =SUM(H7:H86)-H59-H73 -> 1899464 | I87: =SUM(I7:I86)-I59-I73 -> 11240285
A88: (*) Los valores totales no consideran los montos de las boletas anuladas.

Sheet Feb
A1: Contribuyente: CLUB PROVIDENCIA
A2: RUT : 70847200-K
A4: Informe correpondiente al mes 02 del año 2025
A5: Boleta | E5: Emisor | G5: Honorarios
A6: N° | B6: Fecha | C6: Estado | D6: Fecha Anulación | E6: Nombre o Razón Social | F6: Soc. Prof. | G6: Brutos | H6: Retenido | I6: Pagado
A7: 1020 | B7: 45689 | C7: VIGENTE | E7: PERSONA 1 | F7: NO | G7: 112281 | H7: 16281 | I7: 96000
A8: 1 | B8: 45690 | C8: VIGENTE | E8: PERSONA 2 | F8: NO | G8: 200000 | H8: 29000 | I8: 171000
A9: 156 | B9: 45691 | C9: VIGENTE | E9: PERSONA 3 | F9: NO | G9: 1041404 | H9: 151004 | I9: 890400
A10: 425 | B10: 45695 | C10: VIGENTE | E10: PERSONA 4 | F10: NO | G10: 965222 | H10: 139957 | I10: 825265
A11: 157 | B11: 45698 | C11: VIGENTE | E11: PERSONA 5 | F11: NO | G11: 710526 | H11: 103026 | I11: 607500
A12: 158 | B12: 45702 | C12: VIGENTE | E12: PERSONA 6 | F12: NO | G12: 719298 | H12: 104298 | I12: 615000
A13: 30 | B13: 45704 | C13: NULA | D13: 45706 | E13: PERSONA 7 | F13: NO | G13: 70000 | H13: 10150 | I13: 59850
A14: 159 | B14: 45709 | C14: VIGENTE | E14: PERSONA 8 | F14: NO | G14: 884211 | H14: 128211 | I14: 756000
A15: 28 | B15: 45711 | C15: VIGENTE | E15: PERSONA 9 | F15: NO | G15: 58479 | H15: 8479 | I15: 50000
A16: 29 | B16: 45711 | C16: VIGENTE | E16: PERSONA 10 | F16: NO | G16: 29240 | H16: 4240 | I16: 25000
A17: 30 | B17: 45711 | C17: VIGENTE | E17: PERSONA 11 | F17: NO | G17: 29240 | H17: 4240 | I17: 25000
A18: 25 | B18: 45712 | C18: NULA | D18: 45712 | E18: PERSONA 12 | F18: NO | G18: 175500 | H18: 25448 | I18: 150052
A19: 26 | B19: 45712 | C19: NULA | D19: 45722 | E19: PERSONA 13 | F19: NO | G19: 146200 | H19: 21199 | I19: 125001
A20: 27 | B20: 45712 | C20: VIGENTE | E20: PERSONA 14 | F20: NO | G20: 146200 | H20: 21199 | I20: 125001
A21: 160 | B21: 45715 | C21: VIGENTE | E21: PERSONA 15 | F21: NO | G21: 374269 | H21: 54269 | I21: 320000
A22: 1548 | B22: 45695 | C22: VIGENTE | E22: PERSONA 16 | F22: NO | G22: 60003 | H22: 8700 | I22: 51303
A23: 1549 | B23: 45695 | C23: VIGENTE | E23: PERSONA 17 | F23: NO | G23: 140007 | H23: 20301 | I23: 119706
A24: 1550 | B24: 45695 | C24: VIGENTE | E24: PERSONA 18 | F24: NO | G24: 140007 | H24: 20301 | I24: 119706
A25: 1551 | B25: 45695 | C25: VIGENTE | E25: PERSONA 19 | F25: NO | G25: 200010 | H25: 29001 | I25: 171009
A26: 1552 | B26: 45695 | C26: VIGENTE | E26: PERSONA 20 | F26: NO | G26: 200010 | H26: 29001 | I26: 171009
A27: 1553 | B27: 45695 | C27: VIGENTE | E27: PERSONA 21 | F27: NO | G27: 126673 | H27: 18368 | I27: 108305
A28: 1554 | B28: 45695 | C28: VIGENTE | E28: PERSONA 22 | F28: NO | G28: 126673 | H28: 18368 | I28: 108305
A29: 1555 | B29: 45695 | C29: VIGENTE | E29: PERSONA 23 | F29: NO | G29: 126673 | H29: 18368 | I29: 108305
A30: 1556 | B30: 45695 | C30: VIGENTE | E30: PERSONA 24 | F30: NO | G30: 33335 | H30: 4834 | I30: 28501
A31: 1557 | B31: 45695 | C31: VIGENTE | E31: PERSONA 25 | F31: NO | G31: 33335 | H31: 4834 | I31: 28501
... A37: 1563 | B37: 45707 | C37: VIGENTE | E37: PERSONA 31 | F37: NO | G37: 266400 | H37: 38628 | I37: 227772
A38: Totales* : | G38: =SUM(G7:G37)-G13-G18-G19 -> 7143146 | H38: =SUM(H7:H37)-H13-H18-H19 -> 1035758 | I38: =SUM(I7:I37)-I13-I18-I19 -> 6107388
A39: (*) Los valores totales no consideran los montos de las boletas anuladas.

Sheet Mar
A1: Contribuyente: CLUB PROVIDENCIA
A2: RUT : 70847200-K
A4: Informe correpondiente al mes 03 del año 2025
A5: Boleta | E5: Emisor | H5: Honorarios
A6: N° | B6: Fecha | C6: Estado | D6: Fecha Anulación | E6: Nombre o Razón Social | G6: Soc. Prof. | H6: Brutos | I6: Retenido | J6: Pagado
A7: 161 | B7: 45719 | C7: VIGENTE | E7: PERSONA 1 | G7: NO | H7: 707368 | I7: 102568 | J7: 604800
A8: 26 | B8: 45721 | C8: VIGENTE | D8: 45749 | E8: PERSONA 2 | G8: NO | H8: 29240 | I8: 4240 | J8: 25000
A9: 20 | B9: 45724 | C9: VIGENTE | E9: PERSONA 3 | G9: NO | H9: 35000 | I9: 5075 | J9: 29925
A10: 162 | B10: 45726 | C10: NULA | D10: 45727 | E10: PERSONA 4 | G10: NO | H10: 579649 | I10: 84049 | J10: 495600
A11: 163 | B11: 45726 | C11: VIGENTE | E11: PERSONA 5 | G11: NO | H11: 579649 | I11: 84049 | J11: 495600
A12: 145 | B12: 45726 | C12: VIGENTE | E12: PERSONA 6 | G12: NO | H12: 35000 | I12: 5075 | J12: 29925
A13: 19 | B13: 45726 | C13: VIGENTE | E13: PERSONA 7 | G13: NO | H13: 70000 | I13: 10150 | J13: 59850
A14: 11 | B14: 45726 | C14: VIGENTE | E14: PERSONA 8 | G14: NO | H14: 245000 | I14: 35525 | J14: 209475
A15: 1 | B15: 45726 | C15: VIGENTE | E15: PERSONA 9 | G15: NO | H15: 140000 | I15: 20300 | J15: 119700
A16: 427 | B16: 45727 | C16: VIGENTE | E16: PERSONA 10 | G16: NO | H16: 519826 | I16: 75375 | J16: 444451
A17: 1 | B17: 45727 | C17: VIGENTE | E17: PERSONA 11 | G17: NO | H17: 70000 | I17: 10150 | J17: 59850
A18: 1 | B18: 45727 | C18: VIGENTE | E18: PERSONA 12 | G18: NO | H18: 140000 | I18: 20300 | J18: 119700
A19: 2 | B19: 45727 | C19: VIGENTE | E19: PERSONA 13 | G19: NO | H19: 35000 | I19: 5075 | J19: 29925
A20: 1 | B20: 45728 | C20: VIGENTE | E20: PERSONA 14 | G20: NO | H20: 105000 | I20: 15225 | J20: 89775
A21: 21 | B21: 45729 | C21: VIGENTE | E21: PERSONA 15 | G21: NO | H21: 140000 | I21: 20300 | J21: 119700
A22: 58 | B22: 45729 | C22: VIGENTE | E22: PERSONA 16 | G22: NO | H22: 70000 | I22: 10150 | J22: 59850
A23: 1 | B23: 45729 | C23: NULA | D23: 45730 | E23: PERSONA 17 | G23: NO | H23: 204678 | I23: 29678 | J23: 175000
A24: 53 | B24: 45729 | C24: VIGENTE | E24: PERSONA 18 | G24: NO | H24: 140000 | I24: 20300 | J24: 119700
A25: 1 | B25: 45729 | C25: VIGENTE | E25: PERSONA 19 | G25: NO | H25: 140000 | I25: 20300 | J25: 119700
A26: 57 | B26: 45730 | C26: VIGENTE | E26: PERSONA 20 | G26: NO | H26: 30000 | I26: 4350 | J26: 25650
A27: 1 | B27: 45730 | C27: VIGENTE | E27: PERSONA 21 | G27: NO | H27: 35000 | I27: 5075 | J27: 29925
A28: 10 | B28: 45730 | C28: VIGENTE | E28: PERSONA 22 | G28: NO | H28: 105000 | I28: 15225 | J28: 89775
A29: 2 | B29: 45730 | C29: VIGENTE | E29: PERSONA 23 | G29: NO | H29: 175000 | I29: 25375 | J29: 149625
A30: 1 | B30: 45730 | C30: VIGENTE | E30: PERSONA 24 | G30: NO | H30: 35000 | I30: 5075 | J30: 29925
A31: 1 | B31: 45730 | C31: VIGENTE | E31: PERSONA 25 | G31: NO | H31: 105000 | I31: 15225 | J31: 89775
A32: 1 | B32: 45730 | C32: VIGENTE | E32: PERSONA 26 | G32: NO | H32: 245000 | I32: 35525 | J32: 209475
A33: 1 | B33: 45730 | C33: VIGENTE | E33: PERSONA 27 | G33: NO | H33: 35000 | I33: 5075 | J33: 29925
A34: 164 | B34: 45733 | C34: VIGENTE | E34: PERSONA 28 | G34: NO | H34: 569825 | I34: 82625 | J34: 487200
A35: 32 | B35: 45733 | C35: NULA | D35: 45748 | E35: PERSONA 29 | G35: NO | H35: 70000 | I35: 10150 | J35: 59850
A36: 165 | B36: 45737 | C36: VIGENTE | E36: PERSONA 30 | G36: NO | H36: 363509 | I36: 52709 | J36: 310800
A37: 46 | B37: 45741 | C37: VIGENTE | E37: PERSONA 31 | G37: NO | H37: 233918 | I37: 33918 | J37: 200000
A38: 5 | B38: 45741 | C38: VIGENTE | E38: PERSONA 32 | G38: NO | H38: 29240 | I38: 4240 | J38: 25000
A39: 31 | B39: 45741 | C39: VIGENTE | E39: PERSONA 33 | G39: NO | H39: 321638 | I39: 46638 | J39: 275000
A40: 432 | B40: 45742 | C40: VIGENTE | E40: PERSONA 34 | G40: NO | H40: 1587121 | I40: 230133 | J40: 1356988
A41: 166 | B41: 45743 | C41: VIGENTE | E41: PERSONA 35 | G41: NO | H41: 491228 | I41: 71228 | J41: 420000
A42: 2 | B42: 45743 | C42: VIGENTE | E42: PERSONA 36 | G42: NO | H42: 58480 | I42: 8480 | J42: 50000
A43: 11 | B43: 45744 | C43: VIGENTE | E43: PERSONA 37 | G43: NO | H43: 105000 | I43: 15225 | J43: 89775
A44: 2 | B44: 45744 | C44: VIGENTE | E44: PERSONA 38 | G44: NO | H44: 175000 | I44: 25375 | J44: 149625
A45: 2 | B45: 45744 | C45: VIGENTE | E45: PERSONA 39 | G45: NO | H45: 140000 | I45: 20300 | J45: 119700
A46: 1 | B46: 45744 | C46: VIGENTE | E46: PERSONA 40 | G46: NO | H46: 105000 | I46: 15225 | J46: 89775
A47: 54 | B47: 45744 | C47: VIGENTE | E47: PERSONA 41 | G47: NO | H47: 35000 | I47: 5075 | J47: 29925
... A53: 22 | B53: 45746 | C53: VIGENTE | E53: PERSONA 47 | G53: NO | H53: 70000 | I53: 10150 | J53: 59850
A54: 2 | B54: 45746 | C54: NULA | D54: 45746 | E54: PERSONA 48 | G54: NO | H54: 140000 | I54: 20300 | J54: 119700
A55: 3 | B55: 45746 | C55: VIGENTE | E55: PERSONA 49 | G55: NO | H55: 70000 | I55: 10150 | J55: 59850
A56: 3 | B56: 45746 | C56: VIGENTE | E56: PERSONA 50 | G56: NO | H56: 70000 | I56: 10150 | J56: 59850
A57: 2 | B57: 45746 | C57: VIGENTE | E57: PERSONA 51 | G57: NO | H57: 70000 | I57: 10150 | J57: 59850
A58: 167 | B58: 45747 | C58: VIGENTE | E58: PERSONA 52 | G58: NO | H58: 520702 | I58: 75502 | J58: 445200
A59: 21 | B59: 45747 | C59: VIGENTE | E59: PERSONA 53 | G59: NO | H59: 70000 | I59: 10150 | J59: 59850
A60: 21 | B60: 45747 | C60: VIGENTE | E60: PERSONA 54 | G60: NO | H60: 115944 | I60: 16812 | J60: 99132
A61: 1564 | B61: 45719 | C61: VIGENTE | E61: PERSONA 55 | G61: NO | H61: 200010 | I61: 29001 | J61: 171009
A62: 1565 | B62: 45719 | C62: VIGENTE | E62: PERSONA 56 | G62: NO | H62: 240010 | I62: 34801 | J62: 205209
A63: 1566 | B63: 45719 | C63: VIGENTE | E63: PERSONA 57 | G63: NO | H63: 200010 | I63: 29001 | J63: 171009
A64: 1567 | B64: 45719 | C64: VIGENTE | E64: PERSONA 58 | G64: NO | H64: 200010 | I64: 29001 | J64: 171009
A65: 1568 | B65: 45719 | C65: VIGENTE | E65: PERSONA 59 | G65: NO | H65: 200010 | I65: 29001 | J65: 171009
A66: 1569 | B66: 45719 | C66: VIGENTE | E66: PERSONA 60 | G66: NO | H66: 200010 | I66: 29001 | J66: 171009
... A85: 1588 | B85: 45747 | C85: VIGENTE | E85: PERSONA 79 | G85: NO | H85: 35000 | I85: 5075 | J85: 29925
A86: Totales* : | H86: =SUM(H7:H85)-H8-H10-H23-H35-H54 -> 12856508 | I86: =SUM(I7:I85)-I8-I10-I23-I35-I54 -> 1864192 | J86: =SUM(J7:J85)-J8-J10-J23-J35-J54 -> 10992316

Sheet Abr
A1: Contribuyente: CLUB PROVIDENCIA
A2: RUT : 70847200-K
A4: Informe correpondiente al mes 04 del año 2025
A5: Boleta | E5: Emisor | H5: Honorarios
A6: N° | B6: Fecha | C6: Estado | D6: Fecha Anulación | E6: Nombre o Razón Social | G6: Soc. Prof. | H6: Brutos | I6: Retenido | J6: Pagado
A7: 56 | B7: 45748 | C7: VIGENTE | E7: PERSONA 1 | G7: NO | H7: 35000 | I7: 5075 | J7: 29925
A8: 27 | B8: 45749 | C8: VIGENTE | E8: PERSONA 2 | G8: NO | H8: 87720 | I8: 12719 | J8: 75001
A9: 2 | B9: 45751 | C9: VIGENTE | E9: PERSONA 3 | G9: NO | H9: 70000 | I9: 10150 | J9: 59850
A10: 168 | B10: 45754 | C10: VIGENTE | E10: PERSONA 4 | G10: NO | H10: 609123 | I10: 88323 | J10: 520800
A11: 433 | B11: 45755 | C11: VIGENTE | E11: PERSONA 5 | G11: NO | H11: 523135 | I11: 75855 | J11: 447280
A12: 186 | B12: 45758 | C12: NULA | D12: 45758 | E12: PERSONA 6 | G12: NO | H12: 660000 | I12: 95700 | J12: 564300
A13: 187 | B13: 45758 | C13: NULA | D13: 45758 | E13: PERSONA 7 | G13: NO | H13: 660000 | I13: 95700 | J13: 564300
A14: 188 | B14: 45758 | C14: VIGENTE | E14: PERSONA 8 | G14: NO | H14: 648421 | I14: 94021 | J14: 554400
A15: 1 | B15: 45761 | C15: VIGENTE | E15: PERSONA 9 | G15: NO | H15: 70000 | I15: 10150 | J15: 59850
A16: 23 | B16: 45761 | C16: VIGENTE | E16: PERSONA 10 | G16: NO | H16: 105000 | I16: 15225 | J16: 89775
A17: 169 | B17: 45761 | C17: VIGENTE | D17: 45784 | E17: PERSONA 11 | G17: NO | H17: 874386 | I17: 126786 | J17: 747600
A18: 170 | B18: 45761 | C18: VIGENTE | E18: PERSONA 12 | G18: NO | H18: 874386 | I18: 126786 | J18: 747600
A19: 12 | B19: 45761 | C19: VIGENTE | E19: PERSONA 13 | G19: NO | H19: 70000 | I19: 10150 | J19: 59850
A20: 3 | B20: 45761 | C20: VIGENTE | E20: PERSONA 14 | G20: NO | H20: 105000 | I20: 15225 | J20: 89775
A21: 3 | B21: 45761 | C21: VIGENTE | E21: PERSONA 15 | G21: NO | H21: 70000 | I21: 10150 | J21: 59850
A22: 4 | B22: 45761 | C22: VIGENTE | E22: PERSONA 16 | G22: NO | H22: 140000 | I22: 20300 | J22: 119700
A23: 3 | B23: 45761 | C23: VIGENTE | E23: PERSONA 17 | G23: NO | H23: 140000 | I23: 20300 | J23: 119700
A24: 22 | B24: 45761 | C24: VIGENTE | E24: PERSONA 18 | G24: NO | H24: 140000 | I24: 20300 | J24: 119700
A25: 2 | B25: 45761 | C25: VIGENTE | E25: PERSONA 19 | G25: NO | H25: 105000 | I25: 15225 | J25: 89775
A26: 55 | B26: 45761 | C26: VIGENTE | E26: PERSONA 20 | G26: NO | H26: 70000 | I26: 10150 | J26: 59850
A27: 34 | B27: 45761 | C27: VIGENTE | E27: PERSONA 21 | G27: NO | H27: 70000 | I27: 10150 | J27: 59850
A28: 3 | B28: 45761 | C28: VIGENTE | E28: PERSONA 22 | G28: NO | H28: 105000 | I28: 15225 | J28: 89775
A29: 3 | B29: 45761 | C29: VIGENTE | E29: PERSONA 23 | G29: NO | H29: 70000 | I29: 10150 | J29: 59850
... A38: 4 | B38: 45762 | C38: VIGENTE | E38: PERSONA 32 | G38: NO | H38: 70000 | I38: 10150 | J38: 59850
A39: 171 | B39: 45772 | C39: NULA | D39: 45776 | E39: PERSONA 33 | G39: NO | H39: 432281 | I39: 62681 | J39: 369600
A40: 5 | B40: 45774 | C40: VIGENTE | E40: PERSONA 34 | G40: NO | H40: 35000 | I40: 5075 | J40: 29925
A41: 23 | B41: 45775 | C41: VIGENTE | E41: PERSONA 35 | G41: NO | H41: 144930 | I41: 21015 | J41: 123915
A42: 25 | B42: 45775 | C42: VIGENTE | E42: PERSONA 36 | G42: NO | H42: 28986 | I42: 4203 | J42: 24783
A43: 172 | B43: 45776 | C43: VIGENTE | E43: PERSONA 37 | G43: NO | H43: 353684 | I43: 51284 | J43: 302400
A44: 3 | B44: 45777 | C44: VIGENTE | E44: PERSONA 38 | G44: NO | H44: 35000 | I44: 5075 | J44: 29925
A45: 5 | B45: 45777 | C45: VIGENTE | E45: PERSONA 39 | G45: NO | H45: 175000 | I45: 25375 | J45: 149625
A46: 1589 | B46: 45748 | C46: VIGENTE | E46: PERSONA 40 | G46: NO | H46: 28000 | I46: 4060 | J46: 23940
A47: 1590 | B47: 45762 | C47: VIGENTE | E47: PERSONA 41 | G47: NO | H47: 28000 | I47: 4060 | J47: 23940
A48: 1591 | B48: 45762 | C48: VIGENTE | E48: PERSONA 42 | G48: NO | H48: 34000 | I48: 4930 | J48: 29070
A49: 1592 | B49: 45765 | C49: VIGENTE | E49: PERSONA 43 | G49: NO | H49: 48000 | I49: 6960 | J49: 41040
A50: 1593 | B50: 45762 | C50: VIGENTE | E50: PERSONA 44 | G50: NO | H50: 51145 | I50: 7416 | J50: 43729
A51: 1594 | B51: 45763 | C51: VIGENTE | E51: PERSONA 45 | G51: NO | H51: 93338 | I51: 13534 | J51: 79804
... A58: 1601 | B58: 45777 | C58: VIGENTE | E58: PERSONA 52 | G58: NO | H58: 27568 | I58: 3997 | J58: 23571
A59: Totales* : | H59: =SUM(H7:H58)-H12-H13-H17-H39 -> 6661147 | I59: =SUM(I7:I58)-I12-I13-I17-I39 -> 965866 | J59: =SUM(J7:J58)-J12-J13-J17-J39 -> 5695281

Sheet May
A1: Contribuyente: CLUB PROVIDENCIA
A2: RUT : 70847200-K
A4: Informe correpondiente al mes 05 del año 2025
A5: Boleta | E5: Emisor | H5: Honorarios
A6: N° | B6: Fecha | C6: Estado | D6: Fecha Anulación | E6: Nombre o Razón Social | G6: Soc. Prof. | H6: Brutos | I6: Retenido | J6: Pagado
A7: 173 | B7: 45779 | C7: VIGENTE | E7: PERSONA 1 | G7: NO | H7: 678363 | I7: 98363 | J7: 580000
A8: 2 | B8: 45779 | C8: VIGENTE | E8: PERSONA 2 | G8: NO | H8: 70000 | I8: 10150 | J8: 59850
A9: 5 | B9: 45779 | C9: VIGENTE | E9: PERSONA 3 | G9: NO | H9: 35000 | I9: 5075 | J9: 29925
A10: 47 | B10: 45779 | C10: VIGENTE | E10: PERSONA 4 | G10: NO | H10: 175440 | I10: 25439 | J10: 150001
A11: 48 | B11: 45779 | C11: VIGENTE | E11: PERSONA 5 | G11: NO | H11: 29240 | I11: 4240 | J11: 25000
A12: 3 | B12: 45779 | C12: NULA | D12: 45782 | E12: PERSONA 6 | G12: NO | H12: 58480 | I12: 8480 | J12: 50000
A13: 4 | B13: 45779 | C13: VIGENTE | E13: PERSONA 7 | G13: NO | H13: 70000 | I13: 10150 | J13: 59850
A14: 24 | B14: 45779 | C14: VIGENTE | E14: PERSONA 8 | G14: NO | H14: 35000 | I14: 5075 | J14: 29925
A15: 56 | B15: 45779 | C15: VIGENTE | E15: PERSONA 9 | G15: NO | H15: 35000 | I15: 5075 | J15: 29925
A16: 4 | B16: 45779 | C16: VIGENTE | E16: PERSONA 10 | G16: NO | H16: 70000 | I16: 10150 | J16: 59850
A17: 28 | B17: 45779 | C17: NULA | D17: 45779 | E17: PERSONA 11 | G17: NO | H17: 29240 | I17: 4240 | J17: 25000
A18: 29 | B18: 45779 | C18: VIGENTE | E18: PERSONA 12 | G18: NO | H18: 29240 | I18: 4240 | J18: 25000
A19: 4 | B19: 45779 | C19: VIGENTE | E19: PERSONA 13 | G19: NO | H19: 70000 | I19: 10150 | J19: 59850
A20: 32 | B20: 45779 | C20: VIGENTE | E20: PERSONA 14 | G20: NO | H20: 204678 | I20: 29678 | J20: 175000
A21: 33 | B21: 45779 | C21: VIGENTE | E21: PERSONA 15 | G21: NO | H21: 29240 | I21: 4240 | J21: 25000
A22: 13 | B22: 45780 | C22: VIGENTE | E22: PERSONA 16 | G22: NO | H22: 35000 | I22: 5075 | J22: 29925
A23: 4 | B23: 45780 | C23: VIGENTE | E23: PERSONA 17 | G23: NO | H23: 35000 | I23: 5075 | J23: 29925
A24: 17 | B24: 45780 | C24: VIGENTE | E24: PERSONA 18 | G24: NO | H24: 70000 | I24: 10150 | J24: 59850
A25: 3 | B25: 45781 | C25: VIGENTE | E25: PERSONA 19 | G25: NO | H25: 35000 | I25: 5075 | J25: 29925
A26: 4 | B26: 45781 | C26: VIGENTE | E26: PERSONA 20 | G26: NO | H26: 175000 | I26: 25375 | J26: 149625
A27: 174 | B27: 45782 | C27: VIGENTE | E27: PERSONA 21 | G27: NO | H27: 466667 | I27: 67667 | J27: 399000
A28: 57 | B28: 45782 | C28: VIGENTE | E28: PERSONA 22 | G28: NO | H28: 70000 | I28: 10150 | J28: 59850
A29: 4 | B29: 45782 | C29: VIGENTE | E29: PERSONA 23 | G29: NO | H29: 29240 | I29: 4240 | J29: 25000
... A62: 1 | B62: 45792 | C62: VIGENTE | E62: PERSONA 56 | G62: NO | H62: 105000 | I62: 15225 | J62: 89775
A63: 2 | B63: 45792 | C63: NULA | D63: 45793 | E63: PERSONA 57 | G63: NO | H63: 105000 | I63: 15225 | J63: 89775
A64: 177 | B64: 45796 | C64: VIGENTE | E64: PERSONA 58 | G64: NO | H64: 874386 | I64: 126786 | J64: 747600
A65: 131 | B65: 45797 | C65: VIGENTE | E65: PERSONA 59 | G65: NO | H65: 540351 | I65: 78351 | J65: 462000
A66: 178 | B66: 45803 | C66: VIGENTE | E66: PERSONA 60 | G66: NO | H66: 510877 | I66: 74077 | J66: 436800
A67: 179 | B67: 45806 | C67: VIGENTE | E67: PERSONA 61 | G67: NO | H67: 514620 | I67: 74620 | J67: 440000
A68: 30 | B68: 45806 | C68: VIGENTE | E68: PERSONA 62 | G68: NO | H68: 58480 | I68: 8480 | J68: 50000
A69: 10 | B69: 45808 | C69: VIGENTE | E69: PERSONA 63 | G69: NO | H69: 140000 | I69: 20300 | J69: 119700
A70: 49 | B70: 45808 | C70: VIGENTE | E70: PERSONA 64 | G70: NO | H70: 204680 | I70: 29679 | J70: 175001
A71: 5 | B71: 45808 | C71: VIGENTE | E71: PERSONA 65 | G71: NO | H71: 87720 | I71: 12719 | J71: 75001
A72: 34 | B72: 45808 | C72: VIGENTE | E72: PERSONA 66 | G72: NO | H72: 146199 | I72: 21199 | J72: 125000
A73: 35 | B73: 45808 | C73: NULA | D73: 45808 | E73: PERSONA 67 | G73: NO | H73: 87719 | I73: 12719 | J73: 75000
A74: 36 | B74: 45808 | C74: VIGENTE | E74: PERSONA 68 | G74: NO | H74: 87719 | I74: 12719 | J74: 75000
A75: 1602 | B75: 45791 | C75: VIGENTE | E75: PERSONA 69 | G75: NO | H75: 70000 | I75: 10150 | J75: 59850
A76: 1603 | B76: 45792 | C76: VIGENTE | E76: PERSONA 70 | G76: NO | H76: 100005 | I76: 14501 | J76: 85504
A77: 1604 | B77: 45792 | C77: VIGENTE | E77: PERSONA 71 | G77: NO | H77: 20011 | I77: 2902 | J77: 17109
A78: Totales* : | H78: =SUM(H7:H77)-H12-H17-H63-H73 -> 12436327 | I78: =SUM(I7:I77)-I12-I17-I63-I73 -> 1803270 | J78: =SUM(J7:J77)-J12-J17-J63-J73 -> 10633057

Sheet Jun
A1: Contribuyente: CLUB PROVIDENCIA
A2: RUT : 70847200-K
A4: Informe correpondiente al mes 06 del año 2025
A5: Boleta | E5: Emisor | H5: Honorarios
A6: N° | B6: Fecha | C6: Estado | D6: Fecha Anulación | E6: Nombre o Razón Social | G6: Soc. Prof. | H6: Brutos | I6: Retenido | J6: Pagado
A7: 3 | B7: 45809 | C7: VIGENTE | E7: PERSONA 1 | G7: NO | H7: 70000 | I7: 10150 | J7: 59850
A8: 5 | B8: 45809 | C8: VIGENTE | E8: PERSONA 2 | G8: NO | H8: 35000 | I8: 5075 | J8: 29925
A9: 59 | B9: 45809 | C9: VIGENTE | E9: PERSONA 3 | G9: NO | H9: 210000 | I9: 30450 | J9: 179550
A10: 3 | B10: 45809 | C10: VIGENTE | E10: PERSONA 4 | G10: NO | H10: 280000 | I10: 40600 | J10: 239400
A11: 6 | B11: 45809 | C11: VIGENTE | E11: PERSONA 5 | G11: NO | H11: 70000 | I11: 10150 | J11: 59850
A12: 7 | B12: 45809 | C12: VIGENTE | E12: PERSONA 6 | G12: NO | H12: 35000 | I12: 5075 | J12: 29925
A13: 6 | B13: 45809 | C13: VIGENTE | E13: PERSONA 7 | G13: NO | H13: 35000 | I13: 5075 | J13: 29925
A14: 7 | B14: 45809 | C14: NULA | D14: 45810 | E14: PERSONA 8 | G14: NO | H14: 35000 | I14: 5075 | J14: 29925
A15: 3 | B15: 45809 | C15: VIGENTE | E15: PERSONA 9 | G15: NO | H15: 105000 | I15: 15225 | J15: 89775
A16: 6 | B16: 45809 | C16: VIGENTE | E16: PERSONA 10 | G16: NO | H16: 105000 | I16: 15225 | J16: 89775
A17: 6 | B17: 45809 | C17: VIGENTE | E17: PERSONA 11 | G17: NO | H17: 140000 | I17: 20300 | J17: 119700
A18: 7 | B18: 45809 | C18: VIGENTE | E18: PERSONA 12 | G18: NO | H18: 525000 | I18: 76125 | J18: 448875
A19: 6 | B19: 45809 | C19: VIGENTE | E19: PERSONA 13 | G19: NO | H19: 210000 | I19: 30450 | J19: 179550
A20: 3 | B20: 45809 | C20: VIGENTE | E20: PERSONA 14 | G20: NO | H20: 140000 | I20: 20300 | J20: 119700
A21: 97 | B21: 45810 | C21: NULA | D21: 45810 | E21: PERSONA 15 | G21: NO | H21: 40936 | I21: 5936 | J21: 35000
A22: 98 | B22: 45810 | C22: VIGENTE | E22: PERSONA 16 | G22: NO | H22: 35000 | I22: 5075 | J22: 29925
A23: 27 | B23: 45810 | C23: VIGENTE | E23: PERSONA 17 | G23: NO | H23: 175440 | I23: 25439 | J23: 150001
A24: 16 | B24: 45810 | C24: VIGENTE | E24: PERSONA 18 | G24: NO | H24: 280000 | I24: 40600 | J24: 239400
A25: 58 | B25: 45810 | C25: VIGENTE | E25: PERSONA 19 | G25: NO | H25: 105000 | I25: 15225 | J25: 89775
A26: 180 | B26: 45811 | C26: VIGENTE | E26: PERSONA 20 | G26: NO | H26: 1218246 | I26: 176646 | J26: 1041600
A27: 15 | B27: 45812 | C27: VIGENTE | E27: PERSONA 21 | G27: NO | H27: 35000 | I27: 5075 | J27: 29925
A28: 63 | B28: 45813 | C28: VIGENTE | E28: PERSONA 22 | G28: NO | H28: 30000 | I28: 4350 | J28: 25650
A29: 80 | B29: 45814 | C29: VIGENTE | E29: PERSONA 23 | G29: NO | H29: 365495 | I29: 52997 | J29: 312498
A30: 181 | B30: 45817 | C30: VIGENTE | E30: PERSONA 24 | G30: NO | H30: 1178947 | I30: 170947 | J30: 1008000
A31: 442 | B31: 45819 | C31: VIGENTE | E31: PERSONA 25 | G31: NO | H31: 526536 | I31: 76348 | J31: 450188
A32: 1 | B32: 45819 | C32: VIGENTE | E32: PERSONA 26 | G32: NO | H32: 175000 | I32: 25375 | J32: 149625
A33: 2 | B33: 45819 | C33: VIGENTE | E33: PERSONA 27 | G33: NO | H33: 175000 | I33: 25375 | J33: 149625
... A50: 13 | B50: 45824 | C50: VIGENTE | E50: PERSONA 44 | G50: NO | H50: 35000 | I50: 5075 | J50: 29925
A51: 14 | B51: 45824 | C51: VIGENTE | D51: 45845 | E51: PERSONA 45 | G51: NO | H51: 35000 | I51: 5075 | J51: 29925
A52: 3 | B52: 45824 | C52: VIGENTE | E52: PERSONA 46 | G52: NO | H52: 200000 | I52: 29000 | J52: 171000
A53: 7 | B53: 45824 | C53: VIGENTE | E53: PERSONA 47 | G53: NO | H53: 105000 | I53: 15225 | J53: 89775
A54: 8 | B54: 45824 | C54: VIGENTE | E54: PERSONA 48 | G54: NO | H54: 350000 | I54: 50750 | J54: 299250
A55: 1 | B55: 45838 | C55: VIGENTE | E55: PERSONA 49 | G55: NO | H55: 70000 | I55: 10150 | J55: 59850
A56: 183 | B56: 45831 | C56: VIGENTE | E56: PERSONA 50 | G56: NO | H56: 471579 | I56: 68379 | J56: 403200
A57: 184 | B57: 45831 | C57: VIGENTE | E57: PERSONA 51 | G57: NO | H57: 707368 | I57: 102568 | J57: 604800
A58: 82 | B58: 45834 | C58: VIGENTE | E58: PERSONA 52 | G58: NO | H58: 413229 | I58: 59918 | J58: 353311
A59: 185 | B59: 45835 | C59: VIGENTE | E59: PERSONA 53 | G59: NO | H59: 561404 | I59: 81404 | J59: 480000
A60: 37 | B60: 45836 | C60: VIGENTE | E60: PERSONA 54 | G60: NO | H60: 87719 | I60: 12719 | J60: 75000
A61: 26 | B61: 45838 | C61: VIGENTE | E61: PERSONA 55 | G61: NO | H61: 35000 | I61: 5075 | J61: 29925
A62: 22 | B62: 45838 | C62: VIGENTE | E62: PERSONA 56 | G62: NO | H62: 35000 | I62: 5075 | J62: 29925
A63: 1 | B63: 45838 | C63: VIGENTE | E63: PERSONA 57 | G63: NO | H63: 105000 | I63: 15225 | J63: 89775
... A82: 1607 | B82: 45838 | C82: VIGENTE | E82: PERSONA 76 | G82: NO | H82: 173099 | I82: 25099 | J82: 148000
A83: Totales* : | H83: =SUM(H7:H82)-H14-H21-H51 -> 13488639 | I83: =SUM(I7:I82)-I14-I21-I51 -> 1955853 | J83: =SUM(J7:J82)-J14-J21-J51 -> 11532786

Sheet Jul
A1: Contribuyente: CLUB PROVIDENCIA
A2: RUT : 70847200-K
A4: Informe correpondiente al mes 07 del año 2025
A5: Boleta | E5: Emisor | H5: Honorarios
A6: N° | B6: Fecha | C6: Estado | D6: Fecha Anulación | E6: Nombre o Razón Social | G6: Soc. Prof. | H6: Brutos | I6: Retenido | J6: Pagado
A7: 186 | B7: 45839 | C7: VIGENTE | E7: PERSONA 1 | G7: NO | H7: 1178947 | I7: 170947 | J7: 1008000
A8: 16 | B8: 45839 | C8: VIGENTE | E8: PERSONA 2 | G8: NO | H8: 35000 | I8: 5075 | J8: 29925
A9: 9 | B9: 45839 | C9: VIGENTE | E9: PERSONA 3 | G9: NO | H9: 350000 | I9: 50750 | J9: 299250
A10: 10 | B10: 45839 | C10: VIGENTE | E10: PERSONA 4 | G10: NO | H10: 87000 | I10: 12615 | J10: 74385
A11: 1 | B11: 45839 | C11: VIGENTE | E11: PERSONA 5 | G11: NO | H11: 105000 | I11: 15225 | J11: 89775
A12: 83 | B12: 45840 | C12: VIGENTE | E12: PERSONA 6 | G12: NO | H12: 137798 | I12: 19981 | J12: 117817
A13: 4 | B13: 45840 | C13: VIGENTE | E13: PERSONA 7 | G13: NO | H13: 70000 | I13: 10150 | J13: 59850
A14: 29 | B14: 45841 | C14: VIGENTE | E14: PERSONA 8 | G14: NO | H14: 116960 | I14: 16959 | J14: 100001
A15: 30 | B15: 45841 | C15: VIGENTE | E15: PERSONA 9 | G15: NO | H15: 58480 | I15: 8480 | J15: 50000
A16: 38 | B16: 45841 | C16: VIGENTE | E16: PERSONA 10 | G16: NO | H16: 64328 | I16: 9328 | J16: 55000
A17: 14 | B17: 45844 | C17: VIGENTE | E17: PERSONA 11 | G17: NO | H17: 266000 | I17: 38570 | J17: 227430
A18: 187 | B18: 45845 | C18: VIGENTE | E18: PERSONA 12 | G18: NO | H18: 294737 | I18: 42737 | J18: 252000
... A29: 9 | B29: 45853 | C29: VIGENTE | E29: PERSONA 23 | G29: NO | H29: 35000 | I29: 5075 | J29: 29925
A30: 10 | B30: 45853 | C30: NULA | D30: 45856 | E30: PERSONA 24 | G30: NO | H30: 105000 | I30: 15225 | J30: 89775
A31: 9 | B31: 45853 | C31: VIGENTE | E31: PERSONA 25 | G31: NO | H31: 70000 | I31: 10150 | J31: 59850
A32: 9 | B32: 45853 | C32: VIGENTE | E32: PERSONA 26 | G32: NO | H32: 140000 | I32: 20300 | J32: 119700
A33: 9 | B33: 45853 | C33: VIGENTE | E33: PERSONA 27 | G33: NO | H33: 210000 | I33: 30450 | J33: 179550
A34: 13 | B34: 45854 | C34: VIGENTE | E34: PERSONA 28 | G34: NO | H34: 70000 | I34: 10150 | J34: 59850
A35: 9 | B35: 45854 | C35: VIGENTE | E35: PERSONA 29 | G35: NO | H35: 35000 | I35: 5075 | J35: 29925
A36: 11 | B36: 45854 | C36: VIGENTE | E36: PERSONA 30 | G36: NO | H36: 245000 | I36: 35525 | J36: 209475
A37: 12 | B37: 45854 | C37: VIGENTE | E37: PERSONA 31 | G37: NO | H37: 87000 | I37: 12615 | J37: 74385
A38: 2 | B38: 45854 | C38: VIGENTE | E38: PERSONA 32 | G38: NO | H38: 70000 | I38: 10150 | J38: 59850
A39: 130 | B39: 45855 | C39: VIGENTE | E39: PERSONA 33 | G39: NO | H39: 112280 | I39: 16281 | J39: 95999
A40: 84 | B40: 45855 | C40: NULA | D40: 45855 | E40: PERSONA 34 | G40: NO | H40: 515044 | I40: 74681 | J40: 440363
A41: 85 | B41: 45855 | C41: VIGENTE | E41: PERSONA 35 | G41: NO | H41: 407602 | I41: 59102 | J41: 348500
A42: 17 | B42: 45855 | C42: VIGENTE | E42: PERSONA 36 | G42: NO | H42: 35000 | I42: 5075 | J42: 29925
A43: 2 | B43: 45855 | C43: VIGENTE | E43: PERSONA 37 | G43: NO | H43: 70000 | I43: 10150 | J43: 59850
A44: 19 | B44: 45855 | C44: VIGENTE | E44: PERSONA 38 | G44: NO | H44: 210000 | I44: 30450 | J44: 179550
A45: 31 | B45: 45858 | C45: VIGENTE | E45: PERSONA 39 | G45: NO | H45: 58480 | I45: 8480 | J45: 50000
A46: 212 | B46: 45861 | C46: VIGENTE | E46: PERSONA 40 | G46: NO | H46: 222222 | I46: 32222 | J46: 190000
A47: 81 | B47: 45861 | C47: VIGENTE | E47: PERSONA 41 | G47: NO | H47: 488304 | I47: 70804 | J47: 417500
A48: 189 | B48: 45862 | C48: NULA | D48: 45862 | E48: PERSONA 42 | G48: NO | H48: 409357 | I48: 59357 | J48: 350000
A49: 190 | B49: 45862 | C49: VIGENTE | E49: PERSONA 43 | G49: NO | H49: 334035 | I49: 48435 | J49: 285600
A50: 86 | B50: 45863 | C50: VIGENTE | E50: PERSONA 44 | G50: NO | H50: 407602 | I50: 59102 | J50: 348500
A51: 87 | B51: 45863 | C51: VIGENTE | E51: PERSONA 45 | G51: NO | H51: 92446 | I51: 13405 | J51: 79041
A52: 7 | B52: 45864 | C52: VIGENTE | E52: PERSONA 46 | G52: NO | H52: 58480 | I52: 8480 | J52: 50000
A53: 191 | B53: 45866 | C53: VIGENTE | E53: PERSONA 47 | G53: NO | H53: 1247719 | I53: 180919 | J53: 1066800
A54: 6 | B54: 45866 | C54: VIGENTE | E54: PERSONA 48 | G54: NO | H54: 58480 | I54: 8480 | J54: 50000
A55: 52 | B55: 45867 | C55: VIGENTE | E55: PERSONA 49 | G55: NO | H55: 58480 | I55: 8480 | J55: 50000
A56: 53 | B56: 45867 | C56: VIGENTE | E56: PERSONA 50 | G56: NO | H56: 29240 | I56: 4240 | J56: 25000
A57: 18 | B57: 45868 | C57: VIGENTE | E57: PERSONA 51 | G57: NO | H57: 175000 | I57: 25375 | J57: 149625
A58: 7 | B58: 45868 | C58: VIGENTE | E58: PERSONA 52 | G58: NO | H58: 140000 | I58: 20300 | J58: 119700
A59: 14 | B59: 45868 | C59: VIGENTE | E59: PERSONA 53 | G59: NO | H59: 140000 | I59: 20300 | J59: 119700
A60: 5 | B60: 45868 | C60: VIGENTE | E60: PERSONA 54 | G60: NO | H60: 350000 | I60: 50750 | J60: 299250
... A79: 1615 | B79: 45868 | C79: VIGENTE | E79: PERSONA 73 | G79: NO | H79: 30000 | I79: 4350 | J79: 25650
A83: Totales* : | H83: =SUM(H7:H82)-H30-H40-H48 -> 13989053 | I83: =SUM(I7:I82)-I30-I40-I48 -> 2028415 | J83: =SUM(J7:J82)-J30-J40-J48 -> 11960638

Sheet Ago
A1: Contribuyente: CLUB PROVIDENCIA
A2: RUT : 70847200-K
A4: Informe correpondiente al mes 08 del año 2025
A5: Boleta | E5: Emisor | H5: Honorarios
A6: N° | B6: Fecha | C6: Estado | D6: Fecha Anulación | E6: Nombre o Razón Social | G6: Soc. Prof. | H6: Brutos | I6: Retenido | J6: Pagado
A7: 193 | B7: 45870 | C7: VIGENTE | E7: PERSONA 1 | G7: NO | H7: 137544 | I7: 19944 | J7: 117600
A8: 28 | B8: 45870 | C8: VIGENTE | E8: PERSONA 2 | G8: NO | H8: 29240 | I8: 4240 | J8: 25000
A9: 32 | B9: 45870 | C9: VIGENTE | E9: PERSONA 3 | G9: NO | H9: 58480 | I9: 8480 | J9: 50000
A10: 34 | B10: 45874 | C10: VIGENTE | E10: PERSONA 4 | G10: NO | H10: 58480 | I10: 8480 | J10: 50000
A11: 194 | B11: 45875 | C11: VIGENTE | E11: PERSONA 5 | G11: NO | H11: 334035 | I11: 48435 | J11: 285600
A12: 88 | B12: 45876 | C12: VIGENTE | E12: PERSONA 6 | G12: NO | H12: 190790 | I12: 27665 | J12: 163125
A13: 453 | B13: 45877 | C13: VIGENTE | E13: PERSONA 7 | G13: NO | H13: 1718376 | I13: 249165 | J13: 1469211
A14: 4 | B14: 45880 | C14: VIGENTE | E14: PERSONA 8 | G14: NO | H14: 35000 | I14: 5075 | J14: 29925
A15: 195 | B15: 45881 | C15: VIGENTE | E15: PERSONA 9 | G15: NO | H15: 1139649 | I15: 165249 | J15: 974400
A16: 19 | B16: 45881 | C16: VIGENTE | E16: PERSONA 10 | G16: NO | H16: 105000 | I16: 15225 | J16: 89775
A17: 8 | B17: 45881 | C17: VIGENTE | E17: PERSONA 11 | G17: NO | H17: 35000 | I17: 5075 | J17: 29925
A18: 6 | B18: 45881 | C18: VIGENTE | E18: PERSONA 12 | G18: NO | H18: 245000 | I18: 35525 | J18: 209475
... A45: 1617 | B45: 45874 | C45: VIGENTE | E45: PERSONA 39 | G45: NO | H45: 105000 | I45: 15225 | J45: 89775
A46: Totales* : | H46: =SUM(H7:H45) -> 9761053 | I46: =SUM(I7:I45) -> 1410178 | J46: =SUM(J7:J45) -> 8350875

Sheet Sep
A1: Contribuyente: CLUB PROVIDENCIA
A2: RUT : 70847200-K
A4: Informe correpondiente al mes 09 del año 2025
A5: Boleta | E5: Emisor | H5: Honorarios
A6: N° | B6: Fecha | C6: Estado | D6: Fecha Anulación | E6: Nombre o Razón Social | G6: Soc. Prof. | H6: Brutos | I6: Retenido | J6: Pagado
A7: 199 | B7: 45901 | C7: VIGENTE | E7: PERSONA 1 | G7: NO | H7: 1090526 | I7: 158126 | J7: 932400
A8: 20 | B8: 45901 | C8: VIGENTE | E8: PERSONA 2 | G8: NO | H8: 140000 | I8: 20300 | J8: 119700
A9: 62 | B9: 45901 | C9: VIGENTE | E9: PERSONA 3 | G9: NO | H9: 35000 | I9: 5075 | J9: 29925
A10: 9 | B10: 45901 | C10: VIGENTE | E10: PERSONA 4 | G10: NO | H10: 35000 | I10: 5075 | J10: 29925
A11: 16 | B11: 45901 | C11: VIGENTE | E11: PERSONA 5 | G11: NO | H11: 35000 | I11: 5075 | J11: 29925
A12: 7 | B12: 45901 | C12: NULA | D12: 45901 | E12: PERSONA 6 | G12: NO | H12: 385000 | I12: 55825 | J12: 329175
A13: 8 | B13: 45901 | C13: VIGENTE | E13: PERSONA 7 | G13: NO | H13: 420000 | I13: 60900 | J13: 359100
A14: 4 | B14: 45901 | C14: VIGENTE | E14: PERSONA 8 | G14: NO | H14: 35000 | I14: 5075 | J14: 29925
A15: 12 | B15: 45901 | C15: VIGENTE | E15: PERSONA 9 | G15: NO | H15: 70000 | I15: 10150 | J15: 59850
A16: 18 | B16: 45901 | C16: VIGENTE | E16: PERSONA 10 | G16: NO | H16: 35000 | I16: 5075 | J16: 29925
A17: 9 | B17: 45901 | C17: VIGENTE | E17: PERSONA 11 | G17: NO | H17: 70000 | I17: 10150 | J17: 59850
A18: 54 | B18: 45901 | C18: NULA | D18: 45902 | E18: PERSONA 12 | G18: NO | H18: 116960 | I18: 16959 | J18: 100001
A19: 55 | B19: 45901 | C19: VIGENTE | E19: PERSONA 13 | G19: NO | H19: 116960 | I19: 16959 | J19: 100001
A20: 12 | B20: 45901 | C20: VIGENTE | E20: PERSONA 14 | G20: NO | H20: 105000 | I20: 15225 | J20: 89775
A21: 12 | B21: 45901 | C21: VIGENTE | E21: PERSONA 15 | G21: NO | H21: 35000 | I21: 5075 | J21: 29925
A22: 12 | B22: 45901 | C22: VIGENTE | E22: PERSONA 16 | G22: NO | H22: 140000 | I22: 20300 | J22: 119700
A23: 15 | B23: 45901 | C23: VIGENTE | E23: PERSONA 17 | G23: NO | H23: 280000 | I23: 40600 | J23: 239400
A24: 12 | B24: 45901 | C24: VIGENTE | E24: PERSONA 18 | G24: NO | H24: 280000 | I24: 40600 | J24: 239400
A25: 5 | B25: 45901 | C25: VIGENTE | E25: PERSONA 19 | G25: NO | H25: 140000 | I25: 20300 | J25: 119700
A26: 36 | B26: 45902 | C26: VIGENTE | E26: PERSONA 20 | G26: NO | H26: 146200 | I26: 21199 | J26: 125001
A27: 22 | B27: 45902 | C27: VIGENTE | E27: PERSONA 21 | G27: NO | H27: 245000 | I27: 35525 | J27: 209475
A28: 456 | B28: 45908 | C28: VIGENTE | E28: PERSONA 22 | G28: NO | H28: 898208 | I28: 130240 | J28: 767968
A29: 200 | B29: 45908 | C29: VIGENTE | E29: PERSONA 23 | G29: NO | H29: 471579 | I29: 68379 | J29: 403200
A30: 26 | B30: 45908 | C30: VIGENTE | E30: PERSONA 24 | G30: NO | H30: 81871 | I30: 11871 | J30: 70000
... A50: 1 | B50: 45914 | C50: VIGENTE | E50: PERSONA 44 | G50: NO | H50: 70000 | I50: 10150 | J50: 59850
A51: 5 | B51: 45914 | C51: NULA | D51: 45914 | E51: PERSONA 45 | G51: NO | H51: 175000 | I51: 25375 | J51: 149625
A52: 6 | B52: 45914 | C52: VIGENTE | E52: PERSONA 46 | G52: NO | H52: 140000 | I52: 20300 | J52: 119700
A53: 19 | B53: 45914 | C53: VIGENTE | E53: PERSONA 47 | G53: NO | H53: 70000 | I53: 10150 | J53: 59850
A54: 16 | B54: 45914 | C54: VIGENTE | E54: PERSONA 48 | G54: NO | H54: 350000 | I54: 50750 | J54: 299250
A55: 119 | B55: 45915 | C55: VIGENTE | E55: PERSONA 49 | G55: NO | H55: 175000 | I55: 25375 | J55: 149625
A56: 201 | B56: 45915 | C56: VIGENTE | E56: PERSONA 50 | G56: NO | H56: 471579 | I56: 68379 | J56: 403200
A57: 19 | B57: 45915 | C57: VIGENTE | E57: PERSONA 51 | G57: NO | H57: 210000 | I57: 30450 | J57: 179550
A58: 3 | B58: 45915 | C58: VIGENTE | E58: PERSONA 52 | G58: NO | H58: 105000 | I58: 15225 | J58: 89775
A59: 4 | B59: 45915 | C59: VIGENTE | E59: PERSONA 53 | G59: NO | H59: 140000 | I59: 20300 | J59: 119700
A60: 3 | B60: 45915 | C60: NULA | D60: 45915 | E60: PERSONA 54 | G60: NO | H60: 140000 | I60: 20300 | J60: 119700
A61: 4 | B61: 45915 | C61: VIGENTE | E61: PERSONA 55 | G61: NO | H61: 140000 | I61: 20300 | J61: 119700
A62: 3 | B62: 45915 | C62: VIGENTE | E62: PERSONA 56 | G62: NO | H62: 35000 | I62: 5075 | J62: 29925
A63: 202 | B63: 45925 | C63: VIGENTE | E63: PERSONA 57 | G63: NO | H63: 350877 | I63: 50877 | J63: 300000
A64: 9 | B64: 45927 | C64: VIGENTE | E64: PERSONA 58 | G64: NO | H64: 87719 | I64: 12719 | J64: 75000
A65: 10 | B65: 45928 | C65: VIGENTE | E65: PERSONA 59 | G65: NO | H65: 29240 | I65: 4240 | J65: 25000
A66: 29 | B66: 45929 | C66: VIGENTE | E66: PERSONA 60 | G66: NO | H66: 58480 | I66: 8480 | J66: 50000
A67: 203 | B67: 45930 | C67: VIGENTE | E67: PERSONA 61 | G67: NO | H67: 982456 | I67: 142456 | J67: 840000
A68: 1618 | B68: 45901 | C68: VIGENTE | E68: PERSONA 62 | G68: NO | H68: 20000 | I68: 2900 | J68: 17100
A69: 1619 | B69: 45901 | C69: VIGENTE | E69: PERSONA 63 | G69: NO | H69: 30000 | I69: 4350 | J69: 25650
A70: 1620 | B70: 45901 | C70: VIGENTE | E70: PERSONA 64 | G70: NO | H70: 20000 | I70: 2900 | J70: 17100
A71: 1621 | B71: 45901 | C71: VIGENTE | E71: PERSONA 65 | G71: NO | H71: 20000 | I71: 2900 | J71: 17100
A72: 1622 | B72: 45901 | C72: VIGENTE | E72: PERSONA 66 | G72: NO | H72: 40000 | I72: 5800 | J72: 34200
... A75: 1625 | B75: 45915 | C75: VIGENTE | E75: PERSONA 69 | G75: NO | H75: 210000 | I75: 30450 | J75: 179550
A78: Totales* : | H78: =SUM(H7:H77)-H12-H18-H51-H60 -> 14084696 | I78: =SUM(I7:I77)-I12-I18-I51-I60 -> 2042280 | J78: =SUM(J7:J77)-J12-J18-J51-J60 -> 12042416

Sheet Oct
A1: Contribuyente: CLUB PROVIDENCIA
A2: RUT : 70847200-K
A4: Informe correpondiente al mes 10 del año 2025
A5: Boleta | E5: Emisor | H5: Honorarios
A6: N° | B6: Fecha | C6: Estado | D6: Fecha Anulación | E6: Nombre o Razón Social | G6: Soc. Prof. | H6: Brutos | I6: Retenido | J6: Pagado
A7: 478 | B7: 45931 | C7: VIGENTE | E7: PERSONA 1 | G7: NO | H7: 426901 | I7: 61901 | J7: 365000
A8: 41 | B8: 45931 | C8: VIGENTE | E8: PERSONA 2 | G8: NO | H8: 35000 | I8: 5075 | J8: 29925
A9: 233 | B9: 45931 | C9: VIGENTE | E9: PERSONA 3 | G9: NO | H9: 222222 | I9: 32222 | J9: 190000
A10: 120 | B10: 45931 | C10: VIGENTE | E10: PERSONA 4 | G10: NO | H10: 140000 | I10: 20300 | J10: 119700
A11: 2 | B11: 45931 | C11: VIGENTE | E11: PERSONA 5 | G11: NO | H11: 35000 | I11: 5075 | J11: 29925
A12: 22 | B12: 45931 | C12: VIGENTE | E12: PERSONA 6 | G12: NO | H12: 35000 | I12: 5075 | J12: 29925
A13: 2 | B13: 45931 | C13: VIGENTE | E13: PERSONA 7 | G13: NO | H13: 70000 | I13: 10150 | J13: 59850
A14: 11 | B14: 45931 | C14: VIGENTE | E14: PERSONA 8 | G14: NO | H14: 35000 | I14: 5075 | J14: 29925
A15: 14 | B15: 45931 | C15: VIGENTE | E15: PERSONA 9 | G15: NO | H15: 35000 | I15: 5075 | J15: 29925
A16: 11 | B16: 45931 | C16: VIGENTE | E16: PERSONA 10 | G16: NO | H16: 70000 | I16: 10150 | J16: 59850
A17: 14 | B17: 45931 | C17: VIGENTE | E17: PERSONA 11 | G17: NO | H17: 35000 | I17: 5075 | J17: 29925
A18: 38 | B18: 45931 | C18: VIGENTE | E18: PERSONA 12 | G18: NO | H18: 58480 | I18: 8480 | J18: 50000
... A64: 1633 | B64: 45944 | C64: VIGENTE | E64: PERSONA 58 | G64: NO | H64: 105000 | I64: 15225 | J64: 89775
A67: Totales* : | H67: =SUM(H7:H66) -> 9708437 | I67: =SUM(I7:I66) -> 1406710 | J67: =SUM(J7:J66) -> 8301727

Sheet Nov
A1: Contribuyente: CLUB PROVIDENCIA
A2: RUT : 70847200-K
A4: Informe correpondiente al mes 11 del año 2025
A5: Boleta | E5: Emisor | H5: Honorarios
A6: N° | B6: Fecha | C6: Estado | D6: Fecha Anulación | E6: Nombre o Razón Social | G6: Soc. Prof. | H6: Brutos | I6: Retenido | J6: Pagado
A7: 48 | B7: 45964 | C7: VIGENTE | E7: PERSONA 1 | G7: NO | H7: 70000 | I7: 10150 | J7: 59850
A8: 122 | B8: 45964 | C8: VIGENTE | E8: PERSONA 2 | G8: NO | H8: 175000 | I8: 25375 | J8: 149625
A9: 210 | B9: 45964 | C9: VIGENTE | E9: PERSONA 3 | G9: NO | H9: 1178947 | I9: 170947 | J9: 1008000
A10: 9 | B10: 45964 | C10: VIGENTE | E10: PERSONA 4 | G10: NO | H10: 35000 | I10: 5075 | J10: 29925
A11: 4 | B11: 45964 | C11: VIGENTE | E11: PERSONA 5 | G11: NO | H11: 70000 | I11: 10150 | J11: 59850
A12: 23 | B12: 45964 | C12: VIGENTE | E12: PERSONA 6 | G12: NO | H12: 140000 | I12: 20300 | J12: 119700
A13: 4 | B13: 45964 | C13: VIGENTE | E13: PERSONA 7 | G13: NO | H13: 70000 | I13: 10150 | J13: 59850
A14: 24 | B14: 45964 | C14: VIGENTE | E14: PERSONA 8 | G14: NO | H14: 210000 | I14: 30450 | J14: 179550
A15: 13 | B15: 45964 | C15: VIGENTE | E15: PERSONA 9 | G15: NO | H15: 210000 | I15: 30450 | J15: 179550
A16: 17 | B16: 45964 | C16: VIGENTE | E16: PERSONA 10 | G16: NO | H16: 35000 | I16: 5075 | J16: 29925
A17: 8 | B17: 45964 | C17: VIGENTE | E17: PERSONA 11 | G17: NO | H17: 350000 | I17: 50750 | J17: 299250
A18: 16 | B18: 45964 | C18: VIGENTE | E18: PERSONA 12 | G18: NO | H18: 35000 | I18: 5075 | J18: 29925
... A20: 12 | B20: 45964 | C20: VIGENTE | E20: PERSONA 14 | G20: NO | H20: 175000 | I20: 25375 | J20: 149625
A21: 16 | B21: 45964 | C21: NULA | D21: 45964 | E21: PERSONA 15 | G21: NO | H21: 140000 | I21: 20300 | J21: 119700
A22: 17 | B22: 45964 | C22: VIGENTE | E22: PERSONA 16 | G22: NO | H22: 175000 | I22: 25375 | J22: 149625
A23: 7 | B23: 45964 | C23: VIGENTE | E23: PERSONA 17 | G23: NO | H23: 175000 | I23: 25375 | J23: 149625
A24: 2 | B24: 45964 | C24: VIGENTE | E24: PERSONA 18 | G24: NO | H24: 315000 | I24: 45675 | J24: 269325
A25: 4 | B25: 45964 | C25: VIGENTE | E25: PERSONA 19 | G25: NO | H25: 35000 | I25: 5075 | J25: 29925
A26: 26 | B26: 45964 | C26: VIGENTE | E26: PERSONA 20 | G26: NO | H26: 420000 | I26: 60900 | J26: 359100
A27: 132 | B27: 45964 | C27: VIGENTE | E27: PERSONA 21 | G27: NO | H27: 35000 | I27: 5075 | J27: 29925
A28: 6 | B28: 45964 | C28: VIGENTE | E28: PERSONA 22 | G28: NO | H28: 70000 | I28: 10150 | J28: 59850
A29: 16 | B29: 45964 | C29: VIGENTE | E29: PERSONA 23 | G29: NO | H29: 175000 | I29: 25375 | J29: 149625
A30: 5 | B30: 45964 | C30: VIGENTE | E30: PERSONA 24 | G30: NO | H30: 105000 | I30: 15225 | J30: 89775
A31: 9 | B31: 45964 | C31: VIGENTE | E31: PERSONA 25 | G31: NO | H31: 350000 | I31: 50750 | J31: 299250
A32: 1 | B32: 45965 | C32: VIGENTE | E32: PERSONA 26 | G32: NO | H32: 35000 | I32: 5075 | J32: 29925
A33: 39 | B33: 45966 | C33: VIGENTE | E33: PERSONA 27 | G33: NO | H33: 29240 | I33: 4240 | J33: 25000
... A53: 2 | B53: 45976 | C53: VIGENTE | E53: PERSONA 47 | G53: NO | H53: 240000 | I53: 34800 | J53: 205200
A54: 212 | B54: 45978 | C54: NULA | D54: 45982 | E54: PERSONA 48 | G54: NO | H54: 294737 | I54: 42737 | J54: 252000
A55: 5 | B55: 45978 | C55: VIGENTE | E55: PERSONA 49 | G55: NO | H55: 40000 | I55: 5800 | J55: 34200
A56: 24 | B56: 45978 | C56: VIGENTE | E56: PERSONA 50 | G56: NO | H56: 40000 | I56: 5800 | J56: 34200
A57: 9 | B57: 45978 | C57: VIGENTE | E57: PERSONA 51 | G57: NO | H57: 210000 | I57: 30450 | J57: 179550
A58: 8 | B58: 45978 | C58: VIGENTE | E58: PERSONA 52 | G58: NO | H58: 120000 | I58: 17400 | J58: 102600
A59: 213 | B59: 45982 | C59: VIGENTE | E59: PERSONA 53 | G59: NO | H59: 255439 | I59: 37039 | J59: 218400
A60: 214 | B60: 45986 | C60: VIGENTE | E60: PERSONA 54 | G60: NO | H60: 343860 | I60: 49860 | J60: 294000
A61: 215 | B61: 45988 | C61: VIGENTE | E61: PERSONA 55 | G61: NO | H61: 514620 | I61: 74620 | J61: 440000
A62: 216 | B62: 45989 | C62: NULA | D62: 45989 | E62: PERSONA 56 | G62: NO | H62: 467836 | I62: 67836 | J62: 400000
A63: 217 | B63: 45989 | C63: VIGENTE | E63: PERSONA 57 | G63: NO | H63: 392982 | I63: 56982 | J63: 336000
A64: 22 | B64: 45991 | C64: VIGENTE | E64: PERSONA 58 | G64: NO | H64: 160000 | I64: 23200 | J64: 136800
A65: 28 | B65: 45991 | C65: NULA | D65: 45996 | E65: PERSONA 59 | G65: NO | H65: 160000 | I65: 23200 | J65: 136800
A66: 1634 | B66: 45964 | C66: VIGENTE | E66: PERSONA 60 | G66: NO | H66: 82704 | I66: 11992 | J66: 70712
A67: 1635 | B67: 45964 | C67: VIGENTE | E67: PERSONA 61 | G67: NO | H67: 110000 | I67: 15950 | J67: 94050
A68: 1636 | B68: 45964 | C68: VIGENTE | E68: PERSONA 60 | G68: NO | H68: 29019 | I68: 4208 | J68: 24811
A69: 1637 | B69: 45964 | C69: VIGENTE | E69: PERSONA 61 | G69: NO | H69: 60000 | I69: 8700 | J69: 51300
A70: 1638 | B70: 45964 | C70: VIGENTE | E70: PERSONA 62 | G70: NO | H70: 56000 | I70: 8120 | J70: 47880
A71: 1639 | B71: 45964 | C71: VIGENTE | E71: PERSONA 63 | G71: NO | H71: 70000 | I71: 10150 | J71: 59850
A72: 1640 | B72: 45965 | C72: VIGENTE | E72: PERSONA 64 | G72: NO | H72: 385000 | I72: 55825 | J72: 329175
A73: 1641 | B73: 45975 | C73: VIGENTE | E73: PERSONA 65 | G73: NO | H73: 468000 | I73: 67860 | J73: 400140
A74: 1642 | B74: 45978 | C74: VIGENTE | E74: PERSONA 66 | G74: NO | H74: 240000 | I74: 34800 | J74: 205200
A75: Totales* : | H75: =SUM(H7:H74)-H21-H54-H62-H65 -> 13273116 | I75: =SUM(I7:I74)-I21-I54-I62-I65 -> 1915901 | J75: =SUM(J7:J74)-J21-J54-J62-J65 -> 11357215

Sheet Dic
A1: Contribuyente: CLUB PROVIDENCIA
A2: RUT : 70847200-K
A4: Informe correpondiente al mes 12 del año 2025
A5: Boleta | G5: Honorarios
A6: N° | B6: Fecha | C6: Estado | D6: Fecha Anulación | E6: Nombre o Razón Social | F6: Soc. Prof. | G6: Brutos | H6: Retenido | I6: Pagado
A7: 58 | B7: 45992 | C7: VIGENTE | E7: PERSONA 1 | F7: NO | G7: 146200 | H7: 21199 | I7: 125001
A8: 59 | B8: 45992 | C8: VIGENTE | E8: PERSONA 2 | F8: NO | G8: 58480 | H8: 8480 | I8: 50000
A9: 123 | B9: 45993 | C9: VIGENTE | E9: PERSONA 3 | F9: NO | G9: 240000 | H9: 34800 | I9: 205200
A10: 6 | B10: 45993 | C10: VIGENTE | E10: PERSONA 4 | F10: NO | G10: 40000 | H10: 5800 | I10: 34200
A11: 28 | B11: 45993 | C11: VIGENTE | E11: PERSONA 5 | F11: NO | G11: 120000 | H11: 17400 | I11: 102600
A12: 15 | B12: 45993 | C12: VIGENTE | E12: PERSONA 6 | F12: NO | G12: 360000 | H12: 52200 | I12: 307800
A13: 18 | B13: 45993 | C13: VIGENTE | E13: PERSONA 7 | F13: NO | G13: 80000 | H13: 11600 | I13: 68400
A14: 14 | B14: 45993 | C14: VIGENTE | E14: PERSONA 8 | F14: NO | G14: 320000 | H14: 46400 | I14: 273600
A15: 5 | B15: 45993 | C15: VIGENTE | E15: PERSONA 9 | F15: NO | G15: 120000 | H15: 17400 | I15: 102600
A16: 19 | B16: 45993 | C16: VIGENTE | E16: PERSONA 10 | F16: NO | G16: 120000 | H16: 17400 | I16: 102600
A17: 15 | B17: 45993 | C17: VIGENTE | E17: PERSONA 11 | F17: NO | G17: 160000 | H17: 23200 | I17: 136800
A18: 9 | B18: 45993 | C18: VIGENTE | E18: PERSONA 12 | F18: NO | G18: 240000 | H18: 34800 | I18: 205200
... A29: 10 | B29: 45994 | C29: VIGENTE | E29: PERSONA 23 | F29: NO | G29: 200000 | H29: 29000 | I29: 171000
A30: 11 | B30: 45994 | C30: NULA | D30: 45994 | E30: PERSONA 24 | F30: NO | G30: 200000 | H30: 29000 | I30: 171000
A31: 2 | B31: 45994 | C31: VIGENTE | E31: PERSONA 25 | F31: NO | G31: 40000 | H31: 5800 | I31: 34200
A32: 93 | B32: 45995 | C32: VIGENTE | E32: PERSONA 26 | F32: NO | G32: 584795 | H32: 84795 | I32: 500000
A33: 6 | B33: 45995 | C33: VIGENTE | E33: PERSONA 27 | F33: NO | G33: 233918 | H33: 33918 | I33: 200000
A34: 40 | B34: 45995 | C34: VIGENTE | E34: PERSONA 28 | F34: NO | G34: 146199 | H34: 21199 | I34: 125000
A35: 218 | B35: 45996 | C35: VIGENTE | E35: PERSONA 29 | F35: NO | G35: 481404 | H35: 69804 | I35: 411600
A36: 29 | B36: 45996 | C36: VIGENTE | E36: PERSONA 30 | F36: NO | G36: 160000 | H36: 23200 | I36: 136800
A37: 9 | B37: 45999 | C37: VIGENTE | E37: PERSONA 31 | F37: NO | G37: 120000 | H37: 17400 | I37: 102600
A38: 468 | B38: 46000 | C38: NULA | D38: 46000 | E38: PERSONA 32 | F38: NO | G38: 1831487 | H38: 265566 | I38: 1565921
A39: 469 | B39: 46000 | C39: VIGENTE | E39: PERSONA 33 | F39: NO | G39: 1831487 | H39: 265566 | I39: 1565921
A40: 1 | B40: 46001 | C40: VIGENTE | E40: PERSONA 34 | F40: NO | G40: 280000 | H40: 40600 | I40: 239400
A41: 193 | B41: 46003 | C41: VIGENTE | E41: PERSONA 35 | F41: NO | G41: 238596 | H41: 34596 | I41: 204000
A42: 7 | B42: 46006 | C42: VIGENTE | E42: PERSONA 36 | F42: NO | G42: 280000 | H42: 40600 | I42: 239400
A43: 25 | B43: 46006 | C43: VIGENTE | E43: PERSONA 37 | F43: NO | G43: 80000 | H43: 11600 | I43: 68400
A44: 5 | B44: 46006 | C44: VIGENTE | E44: PERSONA 38 | F44: NO | G44: 40000 | H44: 5800 | I44: 34200
A45: 19 | B45: 46006 | C45: VIGENTE | E45: PERSONA 39 | F45: NO | G45: 80000 | H45: 11600 | I45: 68400
A46: 23 | B46: 46006 | C46: VIGENTE | E46: PERSONA 40 | F46: NO | G46: 80000 | H46: 11600 | I46: 68400
A47: 4 | B47: 46006 | C47: VIGENTE | E47: PERSONA 41 | F47: NO | G47: 120000 | H47: 17400 | I47: 102600
A48: 6 | B48: 46006 | C48: VIGENTE | E48: PERSONA 42 | F48: NO | G48: 200000 | H48: 29000 | I48: 171000
A49: 2 | B49: 46006 | C49: VIGENTE | E49: PERSONA 43 | F49: NO | G49: 240000 | H49: 34800 | I49: 205200
A50: 1 | B50: 46006 | C50: VIGENTE | E50: PERSONA 44 | F50: NO | G50: 120000 | H50: 17400 | I50: 102600
... A78: 11 | B78: 46020 | C78: VIGENTE | E78: PERSONA 72 | F78: NO | G78: 29240 | H78: 4240 | I78: 25000
A79: 6 | B79: 46021 | C79: NULA | D79: 46027 | E79: PERSONA 73 | F79: NO | G79: 768878 | H79: 111487 | I79: 657391
A80: 7 | B80: 46021 | C80: VIGENTE | E80: PERSONA 74 | F80: NO | G80: 768878 | H80: 111487 | I80: 657391
A81: 60 | B81: 46021 | C81: VIGENTE | E81: PERSONA 75 | F81: NO | G81: 116960 | H81: 16959 | I81: 100001
A82: 6 | B82: 46022 | C82: VIGENTE | E82: PERSONA 76 | F82: NO | G82: 40000 | H82: 5800 | I82: 34200
A83: 29 | B83: 46022 | C83: VIGENTE | E83: PERSONA 77 | F83: NO | G83: 409357 | H83: 59357 | I83: 350000
A84: 1 | B84: 46022 | C84: VIGENTE | E84: PERSONA 78 | F84: NO | G84: 82596 | H84: 11976 | I84: 70620
A85: 60 | B85: 46022 | C85: VIGENTE | E85: PERSONA 79 | F85: NO | G85: 120000 | H85: 17400 | I85: 102600
A86: 20 | B86: 46022 | C86: VIGENTE | E86: PERSONA 80 | F86: NO | G86: 80000 | H86: 11600 | I86: 68400
A87: 41 | B87: 46022 | C87: VIGENTE | E87: PERSONA 81 | F87: NO | G87: 175439 | H87: 25439 | I87: 150000
A88: 1643 | B88: 45994 | C88: VIGENTE | E88: PERSONA 82 | F88: NO | G88: 160000 | H88: 23200 | I88: 136800
A89: 1644 | B89: 45996 | C89: VIGENTE | E89: PERSONA 83 | F89: NO | G89: 58479 | H89: 8479 | I89: 50000
A90: 1645 | B90: 45996 | C90: VIGENTE | E90: PERSONA 84 | F90: NO | G90: 260000 | H90: 37700 | I90: 222300
A91: 1646 | B91: 45996 | C91: VIGENTE | E91: PERSONA 85 | F91: NO | G91: 60000 | H91: 8700 | I91: 51300
... A147: 1702 | B147: 46022 | C147: VIGENTE | E147: PERSONA 141 | F147: NO | G147: 360000 | H147: 52200 | I147: 307800
E148: PERSONA 154
A149: Totales* : | G149: =SUM(G7:G148)-G30-G38-G79 -> 26818502 | H149: =SUM(H7:H148)-H30-H38-H79 -> 3882888 | I149: =SUM(I7:I148)-I30-I38-I79 -> 22935614
A150: (*) Los valores totales no consideran los montos de las boletas anuladas.
